BEGIN:VCALENDAR
VERSION:2.0
PRODID:-//3qinnovation.org//NONSGML kigkonsult.se iCalcreator 2.30.10//
CALSCALE:GREGORIAN
METHOD:PUBLISH
UID:70593f6b-0257-452b-9afd-d2d8b4787e2b
X-WR-CALDESC:Join Urban Green for an exclusive live demo of Con Edison’s BA
 S Calculator\, a powerful\, excel-based tool designed to help maximize inc
 entives and boost savings when upgrading a building automation system (BAS
 ). Targeted audience: property managers\, contractors\, energy consultants
 \, real estate stakeholders.  \n\nThis interactive session will demonstrat
 e how to streamline operations\, uncover savings\, and boost building effi
 ciency. It will include a live walkthrough of the BAS Calculator in action
  and there will be opportunities for direct engagement with Con Edison eng
 ineers and program management during the Q&A segment.
X-WR-RELCALID:7f3a210027517745fa5b88620acd435d
X-WR-TIMEZONE:America/New_York
BEGIN:VTIMEZONE
TZID:America/New_York
BEGIN:STANDARD
TZNAME:EST
DTSTART:20251102T020000
TZOFFSETFROM:-0400
TZOFFSETTO:-0500
RDATE:20261101T020000
END:STANDARD
BEGIN:DAYLIGHT
TZNAME:EDT
DTSTART:20250309T020000
TZOFFSETFROM:-0500
TZOFFSETTO:-0400
RDATE:20260308T020000
RDATE:20270314T020000
END:DAYLIGHT
END:VTIMEZONE
BEGIN:VEVENT
UID:418da49b-da71-4dac-9d26-ee5a4bea30e3
DTSTAMP:20260419T142133Z
DESCRIPTION:Join Urban Green for an exclusive live demo of Con Edison’s BAS
  Calculator\, a powerful\, excel-based tool designed to help maximize ince
 ntives and boost savings when upgrading a building automation system (BAS)
 . Targeted audience: property managers\, contractors\, energy consultants\
 , real estate stakeholders.  \n\nThis interactive session will demonstrate
  how to streamline operations\, uncover savings\, and boost building effic
 iency. It will include a live walkthrough of the BAS Calculator in action 
 and there will be opportunities for direct engagement with Con Edison engi
 neers and program management during the Q&A segment.
DTSTART;TZID=America/New_York:20251210T100000
DTEND;TZID=America/New_York:20251210T110000
LOCATION:
SUMMARY:Live Demo: Con Edison’s BAS calculator tool
END:VEVENT
END:VCALENDAR
