BEGIN:VCALENDAR
VERSION:2.0
PRODID:-//3qinnovation.org//NONSGML kigkonsult.se iCalcreator 2.30.10//
CALSCALE:GREGORIAN
METHOD:PUBLISH
UID:20264391-d173-44cf-b905-f99085fa78a4
X-WR-CALDESC:In alignment with the 2024 AIANY Presidential Theme\, Belongin
 g and Beyond\, AIA New York is proud to partner with 3×3 for a powerful tw
 o-day seminar focused on community-centered design. This immersive program
  is designed to equip architects and allied professionals with the tools\,
  skills\, and frameworks to lead equitable\, inclusive\, and trust-centere
 d community engagement processes.\n\nParticipants will deepen their unders
 tanding of social positionality\, explore power dynamics\, and learn to fo
 ster inclusion\, belonging\, and care in the built environment. Through a 
 series of interactive modules\, attendees will shift from traditional enga
 gement to reflexive\, co-creative practices that prioritize access\, authe
 nticity\, and shared decision-making.
X-WR-RELCALID:d4d596113c7929689d60201839ab8f4a
X-WR-TIMEZONE:America/New_York
BEGIN:VTIMEZONE
TZID:America/New_York
BEGIN:STANDARD
TZNAME:EST
DTSTART:20251102T020000
TZOFFSETFROM:-0400
TZOFFSETTO:-0500
RDATE:20261101T020000
END:STANDARD
BEGIN:DAYLIGHT
TZNAME:EDT
DTSTART:20250309T020000
TZOFFSETFROM:-0500
TZOFFSETTO:-0400
RDATE:20260308T020000
RDATE:20270314T020000
END:DAYLIGHT
END:VTIMEZONE
BEGIN:VEVENT
UID:2cc5cd52-f2c0-453e-bed0-0e76926cbe98
DTSTAMP:20260419T163623Z
DESCRIPTION:In alignment with the 2024 AIANY Presidential Theme\, Belonging
  and Beyond\, AIA New York is proud to partner with 3×3 for a powerful two
 -day seminar focused on community-centered design. This immersive program 
 is designed to equip architects and allied professionals with the tools\, 
 skills\, and frameworks to lead equitable\, inclusive\, and trust-centered
  community engagement processes.\n\nParticipants will deepen their underst
 anding of social positionality\, explore power dynamics\, and learn to fos
 ter inclusion\, belonging\, and care in the built environment. Through a s
 eries of interactive modules\, attendees will shift from traditional engag
 ement to reflexive\, co-creative practices that prioritize access\, authen
 ticity\, and shared decision-making.
DTSTART;TZID=America/New_York:20251118T090000
DTEND;TZID=America/New_York:20251118T130000
LOCATION:
SUMMARY:AIANY Community-Centered Design: Engagement That Creates Belonging
END:VEVENT
END:VCALENDAR
