BEGIN:VCALENDAR
VERSION:2.0
PRODID:-//3qinnovation.org//NONSGML kigkonsult.se iCalcreator 2.30.10//
CALSCALE:GREGORIAN
METHOD:PUBLISH
UID:37ebfeff-6ae9-402e-9aa1-0a0f12501b44
X-WR-CALDESC:Around the world\, skyscrapers are being built taller than eve
 r before. During this program\, families will explore what makes these str
 uctures so strong and how their design enables them to reach such dizzying
  heights. Families will take inspiration and ideas from amazing skyscraper
 s in NYC and around the world and work together to design and build their 
 own model skyscraper.\n\nFamily Programs are designed for children ages 5–
 13 years old\, accompanied by an adult.
X-WR-RELCALID:174d209c4f56566b043f4059ca118672
X-WR-TIMEZONE:America/New_York
BEGIN:VTIMEZONE
TZID:America/New_York
BEGIN:STANDARD
TZNAME:EST
DTSTART:20251102T020000
TZOFFSETFROM:-0400
TZOFFSETTO:-0500
RDATE:20261101T020000
END:STANDARD
BEGIN:DAYLIGHT
TZNAME:EDT
DTSTART:20250309T020000
TZOFFSETFROM:-0500
TZOFFSETTO:-0400
RDATE:20260308T020000
RDATE:20270314T020000
END:DAYLIGHT
END:VTIMEZONE
BEGIN:VEVENT
UID:4bf30d62-867a-4c36-88cf-0b2f93fb2252
DTSTAMP:20260419T121442Z
DESCRIPTION:Around the world\, skyscrapers are being built taller than ever
  before. During this program\, families will explore what makes these stru
 ctures so strong and how their design enables them to reach such dizzying 
 heights. Families will take inspiration and ideas from amazing skyscrapers
  in NYC and around the world and work together to design and build their o
 wn model skyscraper.\n\nFamily Programs are designed for children ages 5–1
 3 years old\, accompanied by an adult.
DTSTART;TZID=America/New_York:20251108T140000
DTEND;TZID=America/New_York:20251108T160000
LOCATION:
SUMMARY:Family Program: Skyscrapers (Afternoon Session)
END:VEVENT
END:VCALENDAR
