BEGIN:VCALENDAR
VERSION:2.0
PRODID:-//3qinnovation.org//NONSGML kigkonsult.se iCalcreator 2.30.10//
CALSCALE:GREGORIAN
METHOD:PUBLISH
UID:66694d0e-bde1-43fe-91a7-6b03d9515764
X-WR-CALDESC:Join a tour on the waters encircling Manhattan for a comprehen
 sive examination of how climate change is reshaping NYC's skyline\, shorel
 ine\, and infrastructure.\n\nClassic Harbor Line hosts the AIANY Climate C
 hange and Architecture Tour aboard the Yacht Manhattan or Manhattan II whe
 re sweeping views of NYC’s skyline are examined through the lens of sustai
 nability\, waterfront resilience\, and changing political priorities. \n\n
 Explore how climate change is affecting NYC and its inhabitants. Learn abo
 ut the actions NYC is taking to mitigate greenhouse gas emissions\, enhanc
 e built environment design\, and improve the health of its ecosystems.
X-WR-RELCALID:3f4b8f7d0ee2912efc2c276258993652
X-WR-TIMEZONE:America/New_York
BEGIN:VTIMEZONE
TZID:America/New_York
BEGIN:STANDARD
TZNAME:EST
DTSTART:20251102T020000
TZOFFSETFROM:-0400
TZOFFSETTO:-0500
RDATE:20261101T020000
END:STANDARD
BEGIN:DAYLIGHT
TZNAME:EDT
DTSTART:20250309T020000
TZOFFSETFROM:-0500
TZOFFSETTO:-0400
RDATE:20260308T020000
RDATE:20270314T020000
END:DAYLIGHT
END:VTIMEZONE
BEGIN:VEVENT
UID:15d0e6bf-371d-40bc-b9a6-981b39bcf6b2
DTSTAMP:20260419T122147Z
DESCRIPTION:Join a tour on the waters encircling Manhattan for a comprehens
 ive examination of how climate change is reshaping NYC's skyline\, shoreli
 ne\, and infrastructure.\n\nClassic Harbor Line hosts the AIANY Climate Ch
 ange and Architecture Tour aboard the Yacht Manhattan or Manhattan II wher
 e sweeping views of NYC’s skyline are examined through the lens of sustain
 ability\, waterfront resilience\, and changing political priorities. \n\nE
 xplore how climate change is affecting NYC and its inhabitants. Learn abou
 t the actions NYC is taking to mitigate greenhouse gas emissions\, enhance
  built environment design\, and improve the health of its ecosystems.
DTSTART;TZID=America/New_York:20251107T123000
DTEND;TZID=America/New_York:20251107T153000
LOCATION:
SUMMARY:AIANY Climate Change and Architecture Tour
END:VEVENT
END:VCALENDAR
