BEGIN:VCALENDAR
VERSION:2.0
PRODID:-//3qinnovation.org//NONSGML kigkonsult.se iCalcreator 2.30.10//
CALSCALE:GREGORIAN
METHOD:PUBLISH
UID:da22585a-f72a-44a9-b773-dbded0140d1f
X-WR-CALDESC:New to USGBC membership? A long-time member in need of a refre
 sher? Join USGBC on Welcome Wednesday each month for a brief presentation 
 on USGBC National membership followed by an opportunity for Q&A.
X-WR-RELCALID:53732d9ac885f5bf2a9b985bf0df9483
X-WR-TIMEZONE:America/New_York
BEGIN:VTIMEZONE
TZID:America/New_York
BEGIN:STANDARD
TZNAME:EST
DTSTART:20251102T020000
TZOFFSETFROM:-0400
TZOFFSETTO:-0500
RDATE:20261101T020000
END:STANDARD
BEGIN:DAYLIGHT
TZNAME:EDT
DTSTART:20250309T020000
TZOFFSETFROM:-0500
TZOFFSETTO:-0400
RDATE:20260308T020000
RDATE:20270314T020000
END:DAYLIGHT
END:VTIMEZONE
BEGIN:VEVENT
UID:811d8eb1-4dbf-46bb-99d1-44b030ff20bc
DTSTAMP:20260419T123152Z
DESCRIPTION:New to USGBC membership? A long-time member in need of a refres
 her? Join USGBC on Welcome Wednesday each month for a brief presentation o
 n USGBC National membership followed by an opportunity for Q&A.
DTSTART;TZID=America/New_York:20251105T120000
DTEND;TZID=America/New_York:20251105T130000
LOCATION:
SUMMARY:Welcome Wednesdays: Intro to USGBC National Membership
END:VEVENT
END:VCALENDAR
