BEGIN:VCALENDAR
VERSION:2.0
PRODID:-//3qinnovation.org//NONSGML kigkonsult.se iCalcreator 2.30.10//
CALSCALE:GREGORIAN
METHOD:PUBLISH
UID:db79717f-835e-4a7b-b027-08b22621c7f5
X-WR-CALDESC:Join a tour on the waters encircling Manhattan for a comprehen
 sive examination of how climate change is reshaping NYC's skyline\, shorel
 ine\, and infrastructure.\n\nClassic Harbor Line hosts the AIANY Climate C
 hange and Architecture Tour aboard the Yacht Manhattan or Manhattan II whe
 re sweeping views of NYC’s skyline are examined through the lens of sustai
 nability\, waterfront resilience\, and changing political priorities.\n\nE
 xplore how climate change is affecting NYC and its inhabitants. Learn abou
 t the actions NYC is taking to mitigate greenhouse gas emissions\, enhance
  built environment design\, and improve the health of its ecosystems.
X-WR-RELCALID:1359ff0905db33a24f1a129609300d75
X-WR-TIMEZONE:America/New_York
BEGIN:VTIMEZONE
TZID:America/New_York
BEGIN:STANDARD
TZNAME:EST
DTSTART:20241103T020000
TZOFFSETFROM:-0400
TZOFFSETTO:-0500
RDATE:20251102T020000
RDATE:20261101T020000
END:STANDARD
BEGIN:DAYLIGHT
TZNAME:EDT
DTSTART:20250309T020000
TZOFFSETFROM:-0500
TZOFFSETTO:-0400
RDATE:20260308T020000
RDATE:20270314T020000
END:DAYLIGHT
END:VTIMEZONE
BEGIN:VEVENT
UID:a2fa53ba-f06e-4ecc-9c92-87ee46378a94
DTSTAMP:20260419T132706Z
DESCRIPTION:Join a tour on the waters encircling Manhattan for a comprehens
 ive examination of how climate change is reshaping NYC's skyline\, shoreli
 ne\, and infrastructure.\n\nClassic Harbor Line hosts the AIANY Climate Ch
 ange and Architecture Tour aboard the Yacht Manhattan or Manhattan II wher
 e sweeping views of NYC’s skyline are examined through the lens of sustain
 ability\, waterfront resilience\, and changing political priorities.\n\nEx
 plore how climate change is affecting NYC and its inhabitants. Learn about
  the actions NYC is taking to mitigate greenhouse gas emissions\, enhance 
 built environment design\, and improve the health of its ecosystems.
DTSTART;TZID=America/New_York:20251031T133000
DTEND;TZID=America/New_York:20251031T163000
LOCATION:
SUMMARY:AIANY Climate Change and Architecture Tour
END:VEVENT
END:VCALENDAR
