BEGIN:VCALENDAR
VERSION:2.0
PRODID:-//3qinnovation.org//NONSGML kigkonsult.se iCalcreator 2.30.10//
CALSCALE:GREGORIAN
METHOD:PUBLISH
UID:92f04dc7-add6-42b8-a532-6d36b1556811
X-WR-CALDESC:Start your Halloween festivities at the Center for Architectur
 e’s seventh annual Pumpkitecture! competition\, organized in collaboration
  with the 15th annual fall festival\, Archtober 2025: Shared Spaces. NYC-b
 ased firms will go gourd to gourd to once again compete for the Pritzkerpu
 mpkin. \n\nCome witness architects live-carve extraordinary structures and
  vote for the People’s Pumpkin. The carving will commence at 6:15 and run 
 through 7:30. The competing architecture and design firms will briefly def
 end their designs\, after which jurors will deliberate and pick the winnin
 g pumpkin. Enjoy spooky snacks and libations while you watch the competiti
 on!
X-WR-RELCALID:5992e2c1ac6377d4818427dc81e4801f
X-WR-TIMEZONE:America/New_York
BEGIN:VTIMEZONE
TZID:America/New_York
BEGIN:STANDARD
TZNAME:EST
DTSTART:20241103T020000
TZOFFSETFROM:-0400
TZOFFSETTO:-0500
RDATE:20251102T020000
RDATE:20261101T020000
END:STANDARD
BEGIN:DAYLIGHT
TZNAME:EDT
DTSTART:20250309T020000
TZOFFSETFROM:-0500
TZOFFSETTO:-0400
RDATE:20260308T020000
RDATE:20270314T020000
END:DAYLIGHT
END:VTIMEZONE
BEGIN:VEVENT
UID:cfc6c342-c86c-4024-9206-7745aac84cc4
DTSTAMP:20260419T133948Z
DESCRIPTION:Start your Halloween festivities at the Center for Architecture
 ’s seventh annual Pumpkitecture! competition\, organized in collaboration 
 with the 15th annual fall festival\, Archtober 2025: Shared Spaces. NYC-ba
 sed firms will go gourd to gourd to once again compete for the Pritzkerpum
 pkin. \n\nCome witness architects live-carve extraordinary structures and 
 vote for the People’s Pumpkin. The carving will commence at 6:15 and run t
 hrough 7:30. The competing architecture and design firms will briefly defe
 nd their designs\, after which jurors will deliberate and pick the winning
  pumpkin. Enjoy spooky snacks and libations while you watch the competitio
 n!
DTSTART;TZID=America/New_York:20251029T180000
DTEND;TZID=America/New_York:20251029T203000
LOCATION:
SUMMARY:Pumpkitecture! Architectural Pumpkin Carving Competition
END:VEVENT
END:VCALENDAR
