BEGIN:VCALENDAR
VERSION:2.0
PRODID:-//3qinnovation.org//NONSGML kigkonsult.se iCalcreator 2.30.10//
CALSCALE:GREGORIAN
METHOD:PUBLISH
UID:96c75bfa-4b14-4123-bb17-3a50d2317ad4
X-WR-CALDESC:Urban Green Council is offering 'GPRO: Getting Started with Gr
 een Building' so individuals can explore the wide array of career pathways
  across building design\, construction\, operations and more.  Whether jus
 t beginning a career or looking to pivot to a new one in Green Building\, 
 participants will walk away with a new understanding of the Green Building
  field and how to assess which pathway may be right for them. \n\nThis cou
 rse is ideal for anyone entering the workforce and interested in exploring
  careers in the Green Building industry\, including: new workers or worker
 s looking to pivot careers\; students from Career Technical Schools\; indi
 viduals participating in workforce development programs\; and students int
 erested in entering the building or construction industry.
X-WR-RELCALID:f38e215ab6b7f8c4382afd8e3e45cdd8
X-WR-TIMEZONE:America/New_York
BEGIN:VTIMEZONE
TZID:America/New_York
BEGIN:STANDARD
TZNAME:EST
DTSTART:20241103T020000
TZOFFSETFROM:-0400
TZOFFSETTO:-0500
RDATE:20251102T020000
RDATE:20261101T020000
END:STANDARD
BEGIN:DAYLIGHT
TZNAME:EDT
DTSTART:20250309T020000
TZOFFSETFROM:-0500
TZOFFSETTO:-0400
RDATE:20260308T020000
RDATE:20270314T020000
END:DAYLIGHT
END:VTIMEZONE
BEGIN:VEVENT
UID:05a3dfcf-926f-4485-842e-be45573b118d
DTSTAMP:20260419T133726Z
DESCRIPTION:Urban Green Council is offering 'GPRO: Getting Started with Gre
 en Building' so individuals can explore the wide array of career pathways 
 across building design\, construction\, operations and more.  Whether just
  beginning a career or looking to pivot to a new one in Green Building\, p
 articipants will walk away with a new understanding of the Green Building 
 field and how to assess which pathway may be right for them. \n\nThis cour
 se is ideal for anyone entering the workforce and interested in exploring 
 careers in the Green Building industry\, including: new workers or workers
  looking to pivot careers\; students from Career Technical Schools\; indiv
 iduals participating in workforce development programs\; and students inte
 rested in entering the building or construction industry.
DTSTART;TZID=America/New_York:20251023T090000
DTEND;TZID=America/New_York:20251023T120000
LOCATION:
SUMMARY:GPRO: Getting Started with Green Building
END:VEVENT
END:VCALENDAR
