BEGIN:VCALENDAR
VERSION:2.0
PRODID:-//3qinnovation.org//NONSGML kigkonsult.se iCalcreator 2.30.10//
CALSCALE:GREGORIAN
METHOD:PUBLISH
UID:dbe9ba0c-1a1f-4652-b59d-f73a922d84f1
X-WR-CALDESC:The Architecture and Design College Fair provides an opportuni
 ty for high school and college students\, parents\, and school counselors 
 to interface with school representatives from architecture and design scho
 ols. Students are invited to attend this FREE college fair to learn more a
 bout applying to architecture school. Representatives from schools across 
 the United States and internationally will be available at the Center for 
 Architecture to meet with students and answer questions.\n\nThis event is 
 free\, but registration is required.
X-WR-RELCALID:6d0a4f6558e05f1a29a7b0f04bf4fd09
X-WR-TIMEZONE:America/New_York
BEGIN:VTIMEZONE
TZID:America/New_York
BEGIN:STANDARD
TZNAME:EST
DTSTART:20241103T020000
TZOFFSETFROM:-0400
TZOFFSETTO:-0500
RDATE:20251102T020000
RDATE:20261101T020000
END:STANDARD
BEGIN:DAYLIGHT
TZNAME:EDT
DTSTART:20250309T020000
TZOFFSETFROM:-0500
TZOFFSETTO:-0400
RDATE:20260308T020000
RDATE:20270314T020000
END:DAYLIGHT
END:VTIMEZONE
BEGIN:VEVENT
UID:3442d9d4-2531-4ae8-99f3-6d2e73e1732e
DTSTAMP:20260419T134034Z
DESCRIPTION:The Architecture and Design College Fair provides an opportunit
 y for high school and college students\, parents\, and school counselors t
 o interface with school representatives from architecture and design schoo
 ls. Students are invited to attend this FREE college fair to learn more ab
 out applying to architecture school. Representatives from schools across t
 he United States and internationally will be available at the Center for A
 rchitecture to meet with students and answer questions.\n\nThis event is f
 ree\, but registration is required.
DTSTART;TZID=America/New_York:20251018T110000
DTEND;TZID=America/New_York:20251018T150000
LOCATION:
SUMMARY:Architecture and Design College Fair 2025
END:VEVENT
END:VCALENDAR
