BEGIN:VCALENDAR
VERSION:2.0
PRODID:-//3qinnovation.org//NONSGML kigkonsult.se iCalcreator 2.30.10//
CALSCALE:GREGORIAN
METHOD:PUBLISH
UID:c531245b-d776-4967-9980-c9cee3bc8a7c
X-WR-CALDESC:Learn how green infrastructure stormwater management technique
 s can be used in urban settings to increase community resilience to floodi
 ng\, climate change\, and other impacts.\n\nThis course brings together le
 aders in the field of urban stormwater management who will share with cour
 se attendees how green infrastructure is being applied in urban settings. 
 Course content includes multiple case studies demonstrating how theory is 
 (and can be) put into practice.
X-WR-RELCALID:882cd5e33d8c57ee1ecabe24950838a8
X-WR-TIMEZONE:America/New_York
BEGIN:VTIMEZONE
TZID:America/New_York
BEGIN:STANDARD
TZNAME:EST
DTSTART:20241103T020000
TZOFFSETFROM:-0400
TZOFFSETTO:-0500
RDATE:20251102T020000
RDATE:20261101T020000
END:STANDARD
BEGIN:DAYLIGHT
TZNAME:EDT
DTSTART:20250309T020000
TZOFFSETFROM:-0500
TZOFFSETTO:-0400
RDATE:20260308T020000
RDATE:20270314T020000
END:DAYLIGHT
END:VTIMEZONE
BEGIN:VEVENT
UID:3a47a80d-ce70-451e-b75b-b35ec9f44656
DTSTAMP:20260419T132816Z
DESCRIPTION:Learn how green infrastructure stormwater management techniques
  can be used in urban settings to increase community resilience to floodin
 g\, climate change\, and other impacts.\n\nThis course brings together lea
 ders in the field of urban stormwater management who will share with cours
 e attendees how green infrastructure is being applied in urban settings. C
 ourse content includes multiple case studies demonstrating how theory is (
 and can be) put into practice.
DTSTART;TZID=America/New_York:20251016T083000
DTEND;TZID=America/New_York:20251016T123000
LOCATION:
SUMMARY:Urban Stormwater Mgmt: Building Resilient Communities (Day 1)
END:VEVENT
END:VCALENDAR
