BEGIN:VCALENDAR
VERSION:2.0
PRODID:-//3qinnovation.org//NONSGML kigkonsult.se iCalcreator 2.30.10//
CALSCALE:GREGORIAN
METHOD:PUBLISH
UID:70d43ed0-4613-4a38-a7f0-661981e5b831
X-WR-CALDESC:NESEA's BuildingEnergy NYC conference and trade show is a chan
 ce to immerse in a full day of networking and intensive learning with peer
 s from the fields of design\, construction\, engineering\, policy\, financ
 e\, and beyond. Conference sessions will feature best practices | lessons 
 learned from real case studies and proven data. They will also showcase in
 novative technologies and programs. \n\nBuilding sustainability profession
 als at all levels will benefit from attending.
X-WR-RELCALID:21e44cce97ccfd23266e48049cc4c82c
X-WR-TIMEZONE:America/New_York
BEGIN:VTIMEZONE
TZID:America/New_York
BEGIN:STANDARD
TZNAME:EST
DTSTART:20241103T020000
TZOFFSETFROM:-0400
TZOFFSETTO:-0500
RDATE:20251102T020000
RDATE:20261101T020000
END:STANDARD
BEGIN:DAYLIGHT
TZNAME:EDT
DTSTART:20250309T020000
TZOFFSETFROM:-0500
TZOFFSETTO:-0400
RDATE:20260308T020000
RDATE:20270314T020000
END:DAYLIGHT
END:VTIMEZONE
BEGIN:VEVENT
UID:06c2009e-5622-40f3-8285-c60ac0e0d9fb
DTSTAMP:20260419T132407Z
DESCRIPTION:NESEA's BuildingEnergy NYC conference and trade show is a chanc
 e to immerse in a full day of networking and intensive learning with peers
  from the fields of design\, construction\, engineering\, policy\, finance
 \, and beyond. Conference sessions will feature best practices | lessons l
 earned from real case studies and proven data. They will also showcase inn
 ovative technologies and programs. \n\nBuilding sustainability professiona
 ls at all levels will benefit from attending.
DTSTART;TZID=America/New_York:20251016T090000
DTEND;TZID=America/New_York:20251016T170000
LOCATION:
SUMMARY:BuildingEnergy NYC 2025
END:VEVENT
END:VCALENDAR
