BEGIN:VCALENDAR
VERSION:2.0
PRODID:-//3qinnovation.org//NONSGML kigkonsult.se iCalcreator 2.30.10//
CALSCALE:GREGORIAN
METHOD:PUBLISH
UID:75e50539-822f-4cb5-a9da-ea72b23b829f
X-WR-CALDESC:Join Building Energy Exchange for its first-ever game night! F
 ollowing lite refreshments\, participants will break into small groups to 
 play a custom-designed building decarbonization board game. Using a real-w
 orld building scenario\, teams will create mock decarbonization plans by e
 valuating strategies to reduce greenhouse gas emissions while weighing fac
 tors such as costs\, trigger events\, and other site-specific consideratio
 ns. Come prepared to collaborate\, apply your skills\, and dive into the d
 ecision-making process behind effective building decarbonization.
X-WR-RELCALID:4c723e3a677ebe537dc8d26684b27653
X-WR-TIMEZONE:America/New_York
BEGIN:VTIMEZONE
TZID:America/New_York
BEGIN:STANDARD
TZNAME:EST
DTSTART:20241103T020000
TZOFFSETFROM:-0400
TZOFFSETTO:-0500
RDATE:20251102T020000
RDATE:20261101T020000
END:STANDARD
BEGIN:DAYLIGHT
TZNAME:EDT
DTSTART:20250309T020000
TZOFFSETFROM:-0500
TZOFFSETTO:-0400
RDATE:20260308T020000
RDATE:20270314T020000
END:DAYLIGHT
END:VTIMEZONE
BEGIN:VEVENT
UID:4c22834d-e5ad-47e7-81e7-f36c2f985fff
DTSTAMP:20260419T134121Z
DESCRIPTION:Join Building Energy Exchange for its first-ever game night! Fo
 llowing lite refreshments\, participants will break into small groups to p
 lay a custom-designed building decarbonization board game. Using a real-wo
 rld building scenario\, teams will create mock decarbonization plans by ev
 aluating strategies to reduce greenhouse gas emissions while weighing fact
 ors such as costs\, trigger events\, and other site-specific consideration
 s. Come prepared to collaborate\, apply your skills\, and dive into the de
 cision-making process behind effective building decarbonization.
DTSTART;TZID=America/New_York:20251009T173000
DTEND;TZID=America/New_York:20251009T193000
LOCATION:
SUMMARY:Let’s Decarbonize! Game Night at Building Energy Exchange
END:VEVENT
END:VCALENDAR
