BEGIN:VCALENDAR
VERSION:2.0
PRODID:-//3qinnovation.org//NONSGML kigkonsult.se iCalcreator 2.30.10//
CALSCALE:GREGORIAN
METHOD:PUBLISH
UID:2241b6e9-de19-4462-b062-390e06ef6f14
X-WR-CALDESC:Come witness one of the most remarkable land reclamation proje
 cts in history!  Join AIANY guide Doug Fox on an extended tour to Staten I
 sland's Freshkills Park.  This tour offers a limited 'backstage pass' to e
 xperience the transformation of the region's former largest garbage landfi
 ll into today's park. The cruise will enter a network of tidal kills (or s
 treams) to explore the unprecedented land reclamation project\, nearly thr
 ee times the size of Central Park. \n\nNYC Parks and AIANY guides will pro
 vide insightful narration about cutting-edge landscape architecture and en
 gineering\, urban planning\, and the industrial architecture and infrastru
 cture of Staten Island's northwest shore. This tour is operated in partner
 ship with Classic Harbor Line. (Cruises leave from Chelsea Piers (Pier 62)
  at West 22nd Street & the Hudson River\, Manhattan\, NY.)\n
X-WR-RELCALID:d4398c968f29af0ea564dcfdba00d3e2
X-WR-TIMEZONE:America/New_York
BEGIN:VTIMEZONE
TZID:America/New_York
BEGIN:STANDARD
TZNAME:EST
DTSTART:20241103T020000
TZOFFSETFROM:-0400
TZOFFSETTO:-0500
RDATE:20251102T020000
RDATE:20261101T020000
END:STANDARD
BEGIN:DAYLIGHT
TZNAME:EDT
DTSTART:20250309T020000
TZOFFSETFROM:-0500
TZOFFSETTO:-0400
RDATE:20260308T020000
RDATE:20270314T020000
END:DAYLIGHT
END:VTIMEZONE
BEGIN:VEVENT
UID:645887e6-763a-4c0f-842b-11b14ac95356
DTSTAMP:20260419T133242Z
DESCRIPTION:Come witness one of the most remarkable land reclamation projec
 ts in history!  Join AIANY guide Doug Fox on an extended tour to Staten Is
 land's Freshkills Park.  This tour offers a limited 'backstage pass' to ex
 perience the transformation of the region's former largest garbage landfil
 l into today's park. The cruise will enter a network of tidal kills (or st
 reams) to explore the unprecedented land reclamation project\, nearly thre
 e times the size of Central Park. \n\nNYC Parks and AIANY guides will prov
 ide insightful narration about cutting-edge landscape architecture and eng
 ineering\, urban planning\, and the industrial architecture and infrastruc
 ture of Staten Island's northwest shore. This tour is operated in partners
 hip with Classic Harbor Line. (Cruises leave from Chelsea Piers (Pier 62) 
 at West 22nd Street & the Hudson River\, Manhattan\, NY.)\n
DTSTART;TZID=America/New_York:20251005T100000
DTEND;TZID=America/New_York:20251005T133000
LOCATION:
SUMMARY:AIANY Industrial Waterway Tour: Freshkills Park in Staten Island
END:VEVENT
END:VCALENDAR
