BEGIN:VCALENDAR
VERSION:2.0
PRODID:-//3qinnovation.org//NONSGML kigkonsult.se iCalcreator 2.30.10//
CALSCALE:GREGORIAN
METHOD:PUBLISH
UID:bacc1873-e4ec-4b53-ab1e-71c2fad6950b
X-WR-CALDESC:In this program\, families will learn to “read” buildings for 
 clues about their design and function as they observe and sketch architect
 ural elements through a neighborhood walk (weather permitting). Families w
 ill then design their own scale model of a building using this new vocabul
 ary.  \n\nFamily Programs are designed for children ages 5 – 13 years old\
 , accompanied by an adult.
X-WR-RELCALID:f69340e650dc956e8e41f5d294dc887c
X-WR-TIMEZONE:America/New_York
BEGIN:VTIMEZONE
TZID:America/New_York
BEGIN:STANDARD
TZNAME:EST
DTSTART:20241103T020000
TZOFFSETFROM:-0400
TZOFFSETTO:-0500
RDATE:20251102T020000
RDATE:20261101T020000
END:STANDARD
BEGIN:DAYLIGHT
TZNAME:EDT
DTSTART:20250309T020000
TZOFFSETFROM:-0500
TZOFFSETTO:-0400
RDATE:20260308T020000
RDATE:20270314T020000
END:DAYLIGHT
END:VTIMEZONE
BEGIN:VEVENT
UID:689d78b4-1c92-4cf3-80e5-3dbf516ded6e
DTSTAMP:20260419T133242Z
DESCRIPTION:In this program\, families will learn to “read” buildings for c
 lues about their design and function as they observe and sketch architectu
 ral elements through a neighborhood walk (weather permitting). Families wi
 ll then design their own scale model of a building using this new vocabula
 ry.  \n\nFamily Programs are designed for children ages 5 – 13 years old\,
  accompanied by an adult.
DTSTART;TZID=America/New_York:20251004T110000
DTEND;TZID=America/New_York:20251004T130000
LOCATION:
SUMMARY:Family Program: Language of Architecture (AM Session)
END:VEVENT
END:VCALENDAR
