BEGIN:VCALENDAR
VERSION:2.0
PRODID:-//3qinnovation.org//NONSGML kigkonsult.se iCalcreator 2.30.10//
CALSCALE:GREGORIAN
METHOD:PUBLISH
UID:972fc856-e303-43ec-941d-731f14a2c88a
X-WR-CALDESC:This Urban Green Council course teaches building and design pr
 ofessionals in New York State how to properly prove projects comply with t
 he 2020 Energy Conservation Construction Code of New York State (ECCCNYS).
  \n\nThis 2-hour live (virtual) training will cover topics related to both
  the Commercial and Residential energy code for New York State.
X-WR-RELCALID:d3b2160514b96e7f7bf8d2efc5aae4b6
X-WR-TIMEZONE:America/New_York
BEGIN:VTIMEZONE
TZID:America/New_York
BEGIN:STANDARD
TZNAME:EST
DTSTART:20241103T020000
TZOFFSETFROM:-0400
TZOFFSETTO:-0500
RDATE:20251102T020000
RDATE:20261101T020000
END:STANDARD
BEGIN:DAYLIGHT
TZNAME:EDT
DTSTART:20250309T020000
TZOFFSETFROM:-0500
TZOFFSETTO:-0400
RDATE:20260308T020000
RDATE:20270314T020000
END:DAYLIGHT
END:VTIMEZONE
BEGIN:VEVENT
UID:566e0b0b-0b6b-472d-8fe8-92daf30b27d8
DTSTAMP:20260419T152348Z
DESCRIPTION:This Urban Green Council course teaches building and design pro
 fessionals in New York State how to properly prove projects comply with th
 e 2020 Energy Conservation Construction Code of New York State (ECCCNYS). 
 \n\nThis 2-hour live (virtual) training will cover topics related to both 
 the Commercial and Residential energy code for New York State.
DTSTART;TZID=America/New_York:20250929T120000
DTEND;TZID=America/New_York:20250929T140000
LOCATION:
SUMMARY:Crushing the Code NYS: Demonstrate Compliance
END:VEVENT
END:VCALENDAR
