BEGIN:VCALENDAR
VERSION:2.0
PRODID:-//3qinnovation.org//NONSGML kigkonsult.se iCalcreator 2.30.10//
CALSCALE:GREGORIAN
METHOD:PUBLISH
UID:16571832-e609-459a-8bfb-6c7db2bd8232
X-WR-CALDESC:Climate Week NYC is the largest annual climate event of its ki
 nd\, bringing together over 600 events and activities across the City of N
 ew York – in person\, hybrid and online. Each year\, business leaders\, po
 litical change makers\, local decision takers and civil society representa
 tives of all ages and backgrounds\, from all over the world\, gather to dr
 ive the transition\, speed up progress\, and champion change that is alrea
 dy happening. \n\nClimate Week NYC is hosted by Climate Group\, an interna
 tional non-profit whose purpose is to drive climate action\, fast. Climate
  Group hosts the official program during the week that brings together the
  most senior international figures from business\, government\, civil soci
 ety and the climate sector. \n\nThis year\, Climate Week NYC is being held
  from September 21-28\, 2025. The event takes place every year in partners
 hip with the United Nations General Assembly and is run in coordination wi
 th the United Nations and the City of New York.
X-WR-RELCALID:d539bed41d6a57d5da058d52ebd0e480
X-WR-TIMEZONE:America/New_York
BEGIN:VTIMEZONE
TZID:America/New_York
BEGIN:STANDARD
TZNAME:EST
DTSTART:20241103T020000
TZOFFSETFROM:-0400
TZOFFSETTO:-0500
RDATE:20251102T020000
RDATE:20261101T020000
END:STANDARD
BEGIN:DAYLIGHT
TZNAME:EDT
DTSTART:20250309T020000
TZOFFSETFROM:-0500
TZOFFSETTO:-0400
RDATE:20260308T020000
RDATE:20270314T020000
END:DAYLIGHT
END:VTIMEZONE
BEGIN:VEVENT
UID:dcfeac01-236b-45a2-969a-a1468cb90f81
DTSTAMP:20260419T151949Z
DESCRIPTION:Climate Week NYC is the largest annual climate event of its kin
 d\, bringing together over 600 events and activities across the City of Ne
 w York – in person\, hybrid and online. Each year\, business leaders\, pol
 itical change makers\, local decision takers and civil society representat
 ives of all ages and backgrounds\, from all over the world\, gather to dri
 ve the transition\, speed up progress\, and champion change that is alread
 y happening. \n\nClimate Week NYC is hosted by Climate Group\, an internat
 ional non-profit whose purpose is to drive climate action\, fast. Climate 
 Group hosts the official program during the week that brings together the 
 most senior international figures from business\, government\, civil socie
 ty and the climate sector. \n\nThis year\, Climate Week NYC is being held 
 from September 21-28\, 2025. The event takes place every year in partnersh
 ip with the United Nations General Assembly and is run in coordination wit
 h the United Nations and the City of New York.
DTSTART;TZID=America/New_York:20250923T090000
DTEND;TZID=America/New_York:20250923T170000
LOCATION:
SUMMARY:Climate Week NYC
END:VEVENT
END:VCALENDAR
