BEGIN:VCALENDAR
VERSION:2.0
PRODID:-//3qinnovation.org//NONSGML kigkonsult.se iCalcreator 2.30.10//
CALSCALE:GREGORIAN
METHOD:PUBLISH
UID:7fb60fb6-ae99-4c1e-95c2-d0eb5f299ce5
X-WR-CALDESC:Join leaders and experts from academe\, research | policy inst
 itutes\, government\, civil society\, and business (entrepreneurs & larger
  corporations) for the third annual Harvard Climate Action Week\, hosted b
 y the Climate Action Accelerator at the Salata Institute for Climate and S
 ustainability at Harvard University. \n\nFrom September 15–21\, schools an
 d departments across Harvard will host events and activities highlighting 
 innovative research and interdisciplinary approaches to the climate and en
 ergy challenge. Building on this\, the Harvard Climate Symposium: Pathways
  for Progress on Energy and Climate\, taking place September 19–20\, will 
 convene hundreds of experts to share real-world solutions and explore how 
 rigorous evidence can inform meaningful change and impact.
X-WR-RELCALID:3784792bde3fd069249d1a3e2ab88ffd
X-WR-TIMEZONE:America/New_York
BEGIN:VTIMEZONE
TZID:America/New_York
BEGIN:STANDARD
TZNAME:EST
DTSTART:20241103T020000
TZOFFSETFROM:-0400
TZOFFSETTO:-0500
RDATE:20251102T020000
RDATE:20261101T020000
END:STANDARD
BEGIN:DAYLIGHT
TZNAME:EDT
DTSTART:20250309T020000
TZOFFSETFROM:-0500
TZOFFSETTO:-0400
RDATE:20260308T020000
RDATE:20270314T020000
END:DAYLIGHT
END:VTIMEZONE
BEGIN:VEVENT
UID:b82881d1-314d-4b81-8e9d-5c630d585ede
DTSTAMP:20260419T152312Z
DESCRIPTION:Join leaders and experts from academe\, research | policy insti
 tutes\, government\, civil society\, and business (entrepreneurs & larger 
 corporations) for the third annual Harvard Climate Action Week\, hosted by
  the Climate Action Accelerator at the Salata Institute for Climate and Su
 stainability at Harvard University. \n\nFrom September 15–21\, schools and
  departments across Harvard will host events and activities highlighting i
 nnovative research and interdisciplinary approaches to the climate and ene
 rgy challenge. Building on this\, the Harvard Climate Symposium: Pathways 
 for Progress on Energy and Climate\, taking place September 19–20\, will c
 onvene hundreds of experts to share real-world solutions and explore how r
 igorous evidence can inform meaningful change and impact.
DTSTART;TZID=America/New_York:20250919T090000
DTEND;TZID=America/New_York:20250919T170000
LOCATION:
SUMMARY:Harvard Climate Action Week
END:VEVENT
END:VCALENDAR
