BEGIN:VCALENDAR
VERSION:2.0
PRODID:-//3qinnovation.org//NONSGML kigkonsult.se iCalcreator 2.30.10//
CALSCALE:GREGORIAN
METHOD:PUBLISH
UID:b328dc1c-623c-48f3-b2cc-e86807c01d6d
X-WR-CALDESC:This Urban Green course prepares building and design professio
 nals in New York State to navigate the requirements of the 2020 Energy Con
 servation Construction Code of New York State (ECCCNYS). \n\nIn this 2-hou
 r live (virtual) training introductory session\, participants will learn w
 hat the energy code is\, why it was developed\, where it’s headed\, and di
 fferent ways to comply with it.  \n\nThis course will cover topics related
  to both the Commercial and Residential energy code for New York State.
X-WR-RELCALID:a4bb081d66abc9125a5e279b07e656dd
X-WR-TIMEZONE:America/New_York
BEGIN:VTIMEZONE
TZID:America/New_York
BEGIN:STANDARD
TZNAME:EST
DTSTART:20241103T020000
TZOFFSETFROM:-0400
TZOFFSETTO:-0500
RDATE:20251102T020000
RDATE:20261101T020000
END:STANDARD
BEGIN:DAYLIGHT
TZNAME:EDT
DTSTART:20250309T020000
TZOFFSETFROM:-0500
TZOFFSETTO:-0400
RDATE:20260308T020000
END:DAYLIGHT
END:VTIMEZONE
BEGIN:VEVENT
UID:8954f0ad-371b-4054-b538-4bbdc07b5182
DTSTAMP:20260419T151933Z
DESCRIPTION:This Urban Green course prepares building and design profession
 als in New York State to navigate the requirements of the 2020 Energy Cons
 ervation Construction Code of New York State (ECCCNYS). \n\nIn this 2-hour
  live (virtual) training introductory session\, participants will learn wh
 at the energy code is\, why it was developed\, where it’s headed\, and dif
 ferent ways to comply with it.  \n\nThis course will cover topics related 
 to both the Commercial and Residential energy code for New York State.
DTSTART;TZID=America/New_York:20250903T120000
DTEND;TZID=America/New_York:20250903T140000
LOCATION:
SUMMARY:Crushing the Code NYS: Energy Code 101
END:VEVENT
END:VCALENDAR
