BEGIN:VCALENDAR
VERSION:2.0
PRODID:-//3qinnovation.org//NONSGML kigkonsult.se iCalcreator 2.30.10//
CALSCALE:GREGORIAN
METHOD:PUBLISH
UID:bac8adda-19c3-4a0a-96ff-0d7a071fb63a
X-WR-CALDESC:Inspired by the rising popularity of miniature houses\, studen
 ts will examine small spaces and how limited square footage can inspire ex
 citing design innovation. They will also be introduced to sustainable desi
 gn strategies that can make tiny homes energy efficient enough to support 
 off-the-grid living. Students will then design their own tiny house using 
 3D design software and save 2D images of their final projects for their po
 rtfolio.
X-WR-RELCALID:5e91b8cfa6338c8acb7e707f908f5d7b
X-WR-TIMEZONE:America/New_York
BEGIN:VTIMEZONE
TZID:America/New_York
BEGIN:STANDARD
TZNAME:EST
DTSTART:20241103T020000
TZOFFSETFROM:-0400
TZOFFSETTO:-0500
RDATE:20251102T020000
RDATE:20261101T020000
END:STANDARD
BEGIN:DAYLIGHT
TZNAME:EDT
DTSTART:20250309T020000
TZOFFSETFROM:-0500
TZOFFSETTO:-0400
RDATE:20260308T020000
END:DAYLIGHT
END:VTIMEZONE
BEGIN:VEVENT
UID:cb8e6ecd-c27e-4f5a-bcad-6771cc6924e2
DTSTAMP:20260419T164753Z
DESCRIPTION:Inspired by the rising popularity of miniature houses\, student
 s will examine small spaces and how limited square footage can inspire exc
 iting design innovation. They will also be introduced to sustainable desig
 n strategies that can make tiny homes energy efficient enough to support o
 ff-the-grid living. Students will then design their own tiny house using 3
 D design software and save 2D images of their final projects for their por
 tfolio.
DTSTART;TZID=America/New_York:20250821T090000
DTEND;TZID=America/New_York:20250821T160000
LOCATION:
SUMMARY:Summer Program: Digital Design-Tiny Houses (Grades 9-12)
END:VEVENT
END:VCALENDAR
