BEGIN:VCALENDAR
VERSION:2.0
PRODID:-//3qinnovation.org//NONSGML kigkonsult.se iCalcreator 2.30.10//
CALSCALE:GREGORIAN
METHOD:PUBLISH
UID:4914153d-d852-4df4-998a-a910b5b9b80e
X-WR-CALDESC:Kids are the experts in this program focusing on the design of
  parks and playgrounds. The class will visit several unique parks and play
 grounds in the city to assess their design features by playing (of course!
 ) and conducting on-site analysis through surveys\, drawings\, and user in
 terviews. Students will explore and design different types of play spaces\
 , culminating in a model of their own ideal park or playground.
X-WR-RELCALID:fa7039b1143a2410c3d73b82c07b2b85
X-WR-TIMEZONE:America/New_York
BEGIN:VTIMEZONE
TZID:America/New_York
BEGIN:STANDARD
TZNAME:EST
DTSTART:20241103T020000
TZOFFSETFROM:-0400
TZOFFSETTO:-0500
RDATE:20251102T020000
RDATE:20261101T020000
END:STANDARD
BEGIN:DAYLIGHT
TZNAME:EDT
DTSTART:20250309T020000
TZOFFSETFROM:-0500
TZOFFSETTO:-0400
RDATE:20260308T020000
END:DAYLIGHT
END:VTIMEZONE
BEGIN:VEVENT
UID:8c8a0362-9a99-4488-91e9-abbfb6be903f
DTSTAMP:20260419T171108Z
DESCRIPTION:Kids are the experts in this program focusing on the design of 
 parks and playgrounds. The class will visit several unique parks and playg
 rounds in the city to assess their design features by playing (of course!)
  and conducting on-site analysis through surveys\, drawings\, and user int
 erviews. Students will explore and design different types of play spaces\,
  culminating in a model of their own ideal park or playground.
DTSTART;TZID=America/New_York:20250814T090000
DTEND;TZID=America/New_York:20250814T160000
LOCATION:
SUMMARY:Summer Program: Parks and Playgrounds (Grades 3-5)
END:VEVENT
END:VCALENDAR
