BEGIN:VCALENDAR
VERSION:2.0
PRODID:-//3qinnovation.org//NONSGML kigkonsult.se iCalcreator 2.30.10//
CALSCALE:GREGORIAN
METHOD:PUBLISH
UID:88740eba-4d20-4ac5-a42e-41981d28ad45
X-WR-CALDESC:Urban planners consider street layouts\, building types\, open
  spaces\, infrastructure\, and other amenities when designing vibrant comm
 unities. Students will use their own neighborhoods\, as well as examples f
 rom around the world\, to learn about urban design. They will then design 
 and build their own piece of a neighborhood using 3D design software. Indi
 vidual projects will come together at the end of the week to create an ide
 al neighborhood.
X-WR-RELCALID:82e03d887a28e6e143c07b94d0bc9587
X-WR-TIMEZONE:America/New_York
BEGIN:VTIMEZONE
TZID:America/New_York
BEGIN:STANDARD
TZNAME:EST
DTSTART:20241103T020000
TZOFFSETFROM:-0400
TZOFFSETTO:-0500
RDATE:20251102T020000
RDATE:20261101T020000
END:STANDARD
BEGIN:DAYLIGHT
TZNAME:EDT
DTSTART:20250309T020000
TZOFFSETFROM:-0500
TZOFFSETTO:-0400
RDATE:20260308T020000
END:DAYLIGHT
END:VTIMEZONE
BEGIN:VEVENT
UID:46520782-592c-4d33-a264-831e8c9a4cb8
DTSTAMP:20260419T171402Z
DESCRIPTION:Urban planners consider street layouts\, building types\, open 
 spaces\, infrastructure\, and other amenities when designing vibrant commu
 nities. Students will use their own neighborhoods\, as well as examples fr
 om around the world\, to learn about urban design. They will then design a
 nd build their own piece of a neighborhood using 3D design software. Indiv
 idual projects will come together at the end of the week to create an idea
 l neighborhood.
DTSTART;TZID=America/New_York:20250811T090000
DTEND;TZID=America/New_York:20250811T160000
LOCATION:
SUMMARY:Summer Prog: Digital Design-Neighborhoods (Grades 6-8)
END:VEVENT
END:VCALENDAR
