BEGIN:VCALENDAR
VERSION:2.0
PRODID:-//3qinnovation.org//NONSGML kigkonsult.se iCalcreator 2.30.10//
CALSCALE:GREGORIAN
METHOD:PUBLISH
UID:30c9ecef-14c7-45a9-96b2-a7415f449b28
X-WR-CALDESC:Students investigate the history of housing and consider what’
 s in store for the future.  This class will explore historic homes to see 
 how people lived in the past\, discover advancements in green architecture
  today\, and speculate about how we might live in the future. For their fi
 nal project\, students will design and build their own scale model for a h
 ouse of the future.
X-WR-RELCALID:312a81f7f256e3113368805833fa4be0
X-WR-TIMEZONE:America/New_York
BEGIN:VTIMEZONE
TZID:America/New_York
BEGIN:STANDARD
TZNAME:EST
DTSTART:20241103T020000
TZOFFSETFROM:-0400
TZOFFSETTO:-0500
RDATE:20251102T020000
RDATE:20261101T020000
END:STANDARD
BEGIN:DAYLIGHT
TZNAME:EDT
DTSTART:20250309T020000
TZOFFSETFROM:-0500
TZOFFSETTO:-0400
RDATE:20260308T020000
END:DAYLIGHT
END:VTIMEZONE
BEGIN:VEVENT
UID:510b8bed-bb76-4d21-a3da-15f1bbfe25c5
DTSTAMP:20260419T171205Z
DESCRIPTION:Students investigate the history of housing and consider what’s
  in store for the future.  This class will explore historic homes to see h
 ow people lived in the past\, discover advancements in green architecture 
 today\, and speculate about how we might live in the future. For their fin
 al project\, students will design and build their own scale model for a ho
 use of the future.
DTSTART;TZID=America/New_York:20250807T090000
DTEND;TZID=America/New_York:20250807T160000
LOCATION:
SUMMARY:Summer Program: House of the Future (Grades 6-8)
END:VEVENT
END:VCALENDAR
