BEGIN:VCALENDAR
VERSION:2.0
PRODID:-//3qinnovation.org//NONSGML kigkonsult.se iCalcreator 2.30.10//
CALSCALE:GREGORIAN
METHOD:PUBLISH
UID:60004fb8-c1ef-4c89-8287-57993038d6ad
X-WR-CALDESC:With a focus on free-hand sketching\, this course develops arc
 hitectural drawing skills. Students are introduced to a range of drawing t
 echniques\, including one- and two-point perspectives and methods for shad
 ing and rendering different materials. The course visits different spaces 
 throughout New York City to practice observational on-site sketching and c
 an help students create work for their portfolios.
X-WR-RELCALID:2493f08eb80be8a4fb36fc48ea7977da
X-WR-TIMEZONE:America/New_York
BEGIN:VTIMEZONE
TZID:America/New_York
BEGIN:STANDARD
TZNAME:EST
DTSTART:20241103T020000
TZOFFSETFROM:-0400
TZOFFSETTO:-0500
RDATE:20251102T020000
RDATE:20261101T020000
END:STANDARD
BEGIN:DAYLIGHT
TZNAME:EDT
DTSTART:20250309T020000
TZOFFSETFROM:-0500
TZOFFSETTO:-0400
RDATE:20260308T020000
END:DAYLIGHT
END:VTIMEZONE
BEGIN:VEVENT
UID:b65074ab-13d7-42d1-8368-00829b422664
DTSTAMP:20260419T165705Z
DESCRIPTION:With a focus on free-hand sketching\, this course develops arch
 itectural drawing skills. Students are introduced to a range of drawing te
 chniques\, including one- and two-point perspectives and methods for shadi
 ng and rendering different materials. The course visits different spaces t
 hroughout New York City to practice observational on-site sketching and ca
 n help students create work for their portfolios.
DTSTART;TZID=America/New_York:20250801T090000
DTEND;TZID=America/New_York:20250801T160000
LOCATION:
SUMMARY:Summer Program: Drawing Architecture (Grades 9-12)
END:VEVENT
END:VCALENDAR
