BEGIN:VCALENDAR
VERSION:2.0
PRODID:-//3qinnovation.org//NONSGML kigkonsult.se iCalcreator 2.30.10//
CALSCALE:GREGORIAN
METHOD:PUBLISH
UID:fbd36b5c-ac36-420b-9c58-e8a330345061
X-WR-CALDESC:With a focus on free-hand sketching\, this course develops arc
 hitectural drawing skills. Students are introduced to a range of drawing t
 echniques\, including one- and two-point perspectives and methods for shad
 ing and rendering different materials. The course visits different spaces 
 throughout New York City to practice observational on-site sketching and c
 an help students create work for their portfolios.
X-WR-RELCALID:8e319dae7aaae83a07517938e9fabee9
X-WR-TIMEZONE:America/New_York
BEGIN:VTIMEZONE
TZID:America/New_York
BEGIN:STANDARD
TZNAME:EST
DTSTART:20241103T020000
TZOFFSETFROM:-0400
TZOFFSETTO:-0500
RDATE:20251102T020000
RDATE:20261101T020000
END:STANDARD
BEGIN:DAYLIGHT
TZNAME:EDT
DTSTART:20250309T020000
TZOFFSETFROM:-0500
TZOFFSETTO:-0400
RDATE:20260308T020000
END:DAYLIGHT
END:VTIMEZONE
BEGIN:VEVENT
UID:2722df5e-b2f9-41d0-a34b-e4704fb73708
DTSTAMP:20260419T184251Z
DESCRIPTION:With a focus on free-hand sketching\, this course develops arch
 itectural drawing skills. Students are introduced to a range of drawing te
 chniques\, including one- and two-point perspectives and methods for shadi
 ng and rendering different materials. The course visits different spaces t
 hroughout New York City to practice observational on-site sketching and ca
 n help students create work for their portfolios.
DTSTART;TZID=America/New_York:20250730T090000
DTEND;TZID=America/New_York:20250730T160000
LOCATION:
SUMMARY:Summer Program: Drawing Architecture (Grades 9-12)
END:VEVENT
END:VCALENDAR
