BEGIN:VCALENDAR
VERSION:2.0
PRODID:-//3qinnovation.org//NONSGML kigkonsult.se iCalcreator 2.30.10//
CALSCALE:GREGORIAN
METHOD:PUBLISH
UID:a4325bae-42f8-46be-9534-616def8dffdc
X-WR-CALDESC:This Urban Green Council course teaches building and design pr
 ofessionals in New York State how to properly prove projects comply with t
 he 2020 Energy Conservation Construction Code of New York State (ECCCNYS).
  \n\nThis 2-hour live (virtual) training will cover topics related to both
  the Commercial and Residential energy code for New York State.
X-WR-RELCALID:f5c8d21675eb3a87b15a65376520bbb0
X-WR-TIMEZONE:America/New_York
BEGIN:VTIMEZONE
TZID:America/New_York
BEGIN:STANDARD
TZNAME:EST
DTSTART:20241103T020000
TZOFFSETFROM:-0400
TZOFFSETTO:-0500
RDATE:20251102T020000
RDATE:20261101T020000
END:STANDARD
BEGIN:DAYLIGHT
TZNAME:EDT
DTSTART:20250309T020000
TZOFFSETFROM:-0500
TZOFFSETTO:-0400
RDATE:20260308T020000
END:DAYLIGHT
END:VTIMEZONE
BEGIN:VEVENT
UID:50874512-a445-4bd3-996f-52dbbdc7fcfd
DTSTAMP:20260419T184557Z
DESCRIPTION:This Urban Green Council course teaches building and design pro
 fessionals in New York State how to properly prove projects comply with th
 e 2020 Energy Conservation Construction Code of New York State (ECCCNYS). 
 \n\nThis 2-hour live (virtual) training will cover topics related to both 
 the Commercial and Residential energy code for New York State.
DTSTART;TZID=America/New_York:20250730T110000
DTEND;TZID=America/New_York:20250730T130000
LOCATION:
SUMMARY:Crushing the Code NYS: Demonstrate Compliance
END:VEVENT
END:VCALENDAR
