BEGIN:VCALENDAR
VERSION:2.0
PRODID:-//3qinnovation.org//NONSGML kigkonsult.se iCalcreator 2.30.10//
CALSCALE:GREGORIAN
METHOD:PUBLISH
UID:bcec3946-25da-4f51-8dc8-e736baacb7b2
X-WR-CALDESC:With a focus on free-hand sketching\, this course develops arc
 hitectural drawing skills. Students are introduced to a range of drawing t
 echniques\, including one- and two-point perspectives and methods for shad
 ing and rendering different materials. The course visits different spaces 
 throughout New York City to practice observational on-site sketching and c
 an help students create work for their portfolios.
X-WR-RELCALID:4c81f0fe1678eb07bf7780b33426be22
X-WR-TIMEZONE:America/New_York
BEGIN:VTIMEZONE
TZID:America/New_York
BEGIN:STANDARD
TZNAME:EST
DTSTART:20241103T020000
TZOFFSETFROM:-0400
TZOFFSETTO:-0500
RDATE:20251102T020000
RDATE:20261101T020000
END:STANDARD
BEGIN:DAYLIGHT
TZNAME:EDT
DTSTART:20250309T020000
TZOFFSETFROM:-0500
TZOFFSETTO:-0400
RDATE:20260308T020000
END:DAYLIGHT
END:VTIMEZONE
BEGIN:VEVENT
UID:e0b818ca-71ca-4bcd-ad03-9736a9907827
DTSTAMP:20260419T184400Z
DESCRIPTION:With a focus on free-hand sketching\, this course develops arch
 itectural drawing skills. Students are introduced to a range of drawing te
 chniques\, including one- and two-point perspectives and methods for shadi
 ng and rendering different materials. The course visits different spaces t
 hroughout New York City to practice observational on-site sketching and ca
 n help students create work for their portfolios.
DTSTART;TZID=America/New_York:20250728T090000
DTEND;TZID=America/New_York:20250728T160000
LOCATION:
SUMMARY:Summer Program: Drawing Architecture (Grades 9-12)
END:VEVENT
END:VCALENDAR
