BEGIN:VCALENDAR
VERSION:2.0
PRODID:-//3qinnovation.org//NONSGML kigkonsult.se iCalcreator 2.30.10//
CALSCALE:GREGORIAN
METHOD:PUBLISH
UID:dec57bec-4e52-4f87-af18-bc4a49b42f0a
X-WR-CALDESC:After first learning about the structure of trees\, students c
 raft scale models inspired by their own idea of the perfect tree. Using th
 ese creations as a starting point\, students will be challenged to design 
 and build a fantasy treehouse within its branches. The class will explore 
 various techniques to support the treehouse and create ladders\, swings\, 
 furniture\, and other fun details to scale. By the end of this course\, st
 udents will have created their very own model treehouse.
X-WR-RELCALID:be43cd338dd8a98326b4ecd9f8c808fb
X-WR-TIMEZONE:America/New_York
BEGIN:VTIMEZONE
TZID:America/New_York
BEGIN:STANDARD
TZNAME:EST
DTSTART:20241103T020000
TZOFFSETFROM:-0400
TZOFFSETTO:-0500
RDATE:20251102T020000
RDATE:20261101T020000
END:STANDARD
BEGIN:DAYLIGHT
TZNAME:EDT
DTSTART:20250309T020000
TZOFFSETFROM:-0500
TZOFFSETTO:-0400
RDATE:20260308T020000
END:DAYLIGHT
END:VTIMEZONE
BEGIN:VEVENT
UID:332b3658-1e95-4d2b-893c-632b4284438c
DTSTAMP:20260419T184827Z
DESCRIPTION:After first learning about the structure of trees\, students cr
 aft scale models inspired by their own idea of the perfect tree. Using the
 se creations as a starting point\, students will be challenged to design a
 nd build a fantasy treehouse within its branches. The class will explore v
 arious techniques to support the treehouse and create ladders\, swings\, f
 urniture\, and other fun details to scale. By the end of this course\, stu
 dents will have created their very own model treehouse.
DTSTART;TZID=America/New_York:20250724T090000
DTEND;TZID=America/New_York:20250724T160000
LOCATION:
SUMMARY:Summer Program: Treehouses (Grades 6-8)
END:VEVENT
END:VCALENDAR
