BEGIN:VCALENDAR
VERSION:2.0
PRODID:-//3qinnovation.org//NONSGML kigkonsult.se iCalcreator 2.30.10//
CALSCALE:GREGORIAN
METHOD:PUBLISH
UID:72da05b5-81a4-4b7b-a3c8-c2208e276782
X-WR-CALDESC:This Urban Green course prepares building and design professio
 nals in New York State to comply with the commercial mechanical\, hot wate
 r\, and lighting requirements in the 2020 ECCCNYS.\n\nParticipants in this
  2-hour live (virtual) training will learn right-sizing mechanical systems
  compliance requirements - along with the energy consequences of effective
  controls and setbacks.  They will also learn how the Energy Code: limits 
 energy waste due to ventilation\; requires mandatory provisions for servic
 e hot water systems in commercial buildings\; and has requirements for cod
 e-compliant electrical systems related to lighting and power.
X-WR-RELCALID:a1cb250a894b2345f2efff93a9d8baaa
X-WR-TIMEZONE:America/New_York
BEGIN:VTIMEZONE
TZID:America/New_York
BEGIN:STANDARD
TZNAME:EST
DTSTART:20241103T020000
TZOFFSETFROM:-0400
TZOFFSETTO:-0500
RDATE:20251102T020000
RDATE:20261101T020000
END:STANDARD
BEGIN:DAYLIGHT
TZNAME:EDT
DTSTART:20250309T020000
TZOFFSETFROM:-0500
TZOFFSETTO:-0400
RDATE:20260308T020000
END:DAYLIGHT
END:VTIMEZONE
BEGIN:VEVENT
UID:8e190128-57df-4f7f-ae0a-2e2f23895452
DTSTAMP:20260419T184949Z
DESCRIPTION:This Urban Green course prepares building and design profession
 als in New York State to comply with the commercial mechanical\, hot water
 \, and lighting requirements in the 2020 ECCCNYS.\n\nParticipants in this 
 2-hour live (virtual) training will learn right-sizing mechanical systems 
 compliance requirements - along with the energy consequences of effective 
 controls and setbacks.  They will also learn how the Energy Code: limits e
 nergy waste due to ventilation\; requires mandatory provisions for service
  hot water systems in commercial buildings\; and has requirements for code
 -compliant electrical systems related to lighting and power.
DTSTART;TZID=America/New_York:20250723T110000
DTEND;TZID=America/New_York:20250723T133000
LOCATION:
SUMMARY:Crushing the Code NYS: Commercial Building Systems
END:VEVENT
END:VCALENDAR
