BEGIN:VCALENDAR
VERSION:2.0
PRODID:-//3qinnovation.org//NONSGML kigkonsult.se iCalcreator 2.30.10//
CALSCALE:GREGORIAN
METHOD:PUBLISH
UID:7b453004-4f73-4db2-894e-13f1757bd86d
X-WR-CALDESC:ACEEE's 2025 Summer Study theme: 'Industrial Competitiveness\,
  Decarbonization\, and the Energy Transition'.\n\nThe industrial sector ac
 counts for one third of the U.S. primary energy use\, so the energy transi
 tion presents enormous opportunities and risks for this sector. Industrial
  competitiveness is going to depend on continued investments in innovation
 \, efficiency\, and decarbonization. \n\nCharlotte\, North Carolina is gro
 und zero for recent industrial investment\, accompanied by a statewide com
 mitment to carbon neutrality in the electricity sector by the year 2050. J
 oin professionals from around the globe in Charlotte to explore policies\,
  funding\, operations\, and technologies necessary to sustain industrial c
 ompetitiveness - for both individual firms and the sector at large.  Also 
 explore how public private partnerships can act now to develop the workfor
 ce needed for success. And finally\, compare national and state policies t
 o identify both immediate advantages and long-term leverage.
X-WR-RELCALID:3faa9864f13e602340fba642753416c0
X-WR-TIMEZONE:America/New_York
BEGIN:VTIMEZONE
TZID:America/New_York
BEGIN:STANDARD
TZNAME:EST
DTSTART:20241103T020000
TZOFFSETFROM:-0400
TZOFFSETTO:-0500
RDATE:20251102T020000
RDATE:20261101T020000
END:STANDARD
BEGIN:DAYLIGHT
TZNAME:EDT
DTSTART:20250309T020000
TZOFFSETFROM:-0500
TZOFFSETTO:-0400
RDATE:20260308T020000
END:DAYLIGHT
END:VTIMEZONE
BEGIN:VEVENT
UID:f0f6e7bd-97b8-45c9-bef9-105813ecbb4c
DTSTAMP:20260419T185022Z
DESCRIPTION:ACEEE's 2025 Summer Study theme: 'Industrial Competitiveness\, 
 Decarbonization\, and the Energy Transition'.\n\nThe industrial sector acc
 ounts for one third of the U.S. primary energy use\, so the energy transit
 ion presents enormous opportunities and risks for this sector. Industrial 
 competitiveness is going to depend on continued investments in innovation\
 , efficiency\, and decarbonization. \n\nCharlotte\, North Carolina is grou
 nd zero for recent industrial investment\, accompanied by a statewide comm
 itment to carbon neutrality in the electricity sector by the year 2050. Jo
 in professionals from around the globe in Charlotte to explore policies\, 
 funding\, operations\, and technologies necessary to sustain industrial co
 mpetitiveness - for both individual firms and the sector at large.  Also e
 xplore how public private partnerships can act now to develop the workforc
 e needed for success. And finally\, compare national and state policies to
  identify both immediate advantages and long-term leverage.
DTSTART;TZID=America/New_York:20250718T090000
DTEND;TZID=America/New_York:20250718T170000
LOCATION:Charlotte\, NC
SUMMARY:2025 Summer Study: Energy Efficiency in Industry
END:VEVENT
END:VCALENDAR
