BEGIN:VCALENDAR
VERSION:2.0
PRODID:-//3qinnovation.org//NONSGML kigkonsult.se iCalcreator 2.30.10//
CALSCALE:GREGORIAN
METHOD:PUBLISH
UID:eb2b9f57-b570-4b3a-9a75-492d041989ab
X-WR-CALDESC:This Urban Green course prepares building and design professio
 nals in New York State to comply with the residential mechanical\, hot wat
 er\, and lighting requirements in the 2020 ECCCNYS.\n\nParticipants in thi
 s 2-hour live (virtual) training will learn right-sizing mechanical system
 s compliance requirements - along with the energy consequences of effectiv
 e controls and setbacks.  They will also learn how the Energy Code: limits
  energy waste due to ventilation\; requires mandatory provisions for servi
 ce hot water systems in residential buildings\; and has requirements for c
 ode-compliant electrical systems related to lighting\, solar\, and electri
 c vehicles.
X-WR-RELCALID:57f4bbe71cf449973e1f9c2991ecf0e0
X-WR-TIMEZONE:America/New_York
BEGIN:VTIMEZONE
TZID:America/New_York
BEGIN:STANDARD
TZNAME:EST
DTSTART:20241103T020000
TZOFFSETFROM:-0400
TZOFFSETTO:-0500
RDATE:20251102T020000
RDATE:20261101T020000
END:STANDARD
BEGIN:DAYLIGHT
TZNAME:EDT
DTSTART:20250309T020000
TZOFFSETFROM:-0500
TZOFFSETTO:-0400
RDATE:20260308T020000
END:DAYLIGHT
END:VTIMEZONE
BEGIN:VEVENT
UID:36f926ae-33f2-4b22-a7bd-fd454f698426
DTSTAMP:20260419T185001Z
DESCRIPTION:This Urban Green course prepares building and design profession
 als in New York State to comply with the residential mechanical\, hot wate
 r\, and lighting requirements in the 2020 ECCCNYS.\n\nParticipants in this
  2-hour live (virtual) training will learn right-sizing mechanical systems
  compliance requirements - along with the energy consequences of effective
  controls and setbacks.  They will also learn how the Energy Code: limits 
 energy waste due to ventilation\; requires mandatory provisions for servic
 e hot water systems in residential buildings\; and has requirements for co
 de-compliant electrical systems related to lighting\, solar\, and electric
  vehicles.
DTSTART;TZID=America/New_York:20250717T110000
DTEND;TZID=America/New_York:20250717T123000
LOCATION:
SUMMARY:Crushing the Code NYS: Residential Building Systems
END:VEVENT
END:VCALENDAR
