BEGIN:VCALENDAR
VERSION:2.0
PRODID:-//3qinnovation.org//NONSGML kigkonsult.se iCalcreator 2.30.10//
CALSCALE:GREGORIAN
METHOD:PUBLISH
UID:e495abdc-b263-4c64-ab80-855049674a5b
X-WR-CALDESC:This Urban Green course prepares building and design professio
 nals in New York State to comply with commercial envelope requirements in 
 the 2020 Energy Conservation Construction Code of New York State (ECCCNYS)
 .  \n\nThe building envelope occupies a large portion of the Commercial en
 ergy code because of its outsized impact on energy performance.  As huge d
 rivers of energy consumption and use\, it’s critical that building envelop
 es are designed and built to code.  \n\nIn this 2-hour live (virtual) trai
 ning session\, participants will examine the ingredients for a code-compli
 ant building envelope and how those ingredients are incorporated into the 
 2020 ECCCNYS commercial provisions.
X-WR-RELCALID:7d68f1147d45b06a5d49bbf88abffc90
X-WR-TIMEZONE:America/New_York
BEGIN:VTIMEZONE
TZID:America/New_York
BEGIN:STANDARD
TZNAME:EST
DTSTART:20241103T020000
TZOFFSETFROM:-0400
TZOFFSETTO:-0500
RDATE:20251102T020000
RDATE:20261101T020000
END:STANDARD
BEGIN:DAYLIGHT
TZNAME:EDT
DTSTART:20250309T020000
TZOFFSETFROM:-0500
TZOFFSETTO:-0400
RDATE:20260308T020000
END:DAYLIGHT
END:VTIMEZONE
BEGIN:VEVENT
UID:faaa80a8-9496-459d-aece-504e279e5eab
DTSTAMP:20260419T184720Z
DESCRIPTION:This Urban Green course prepares building and design profession
 als in New York State to comply with commercial envelope requirements in t
 he 2020 Energy Conservation Construction Code of New York State (ECCCNYS).
   \n\nThe building envelope occupies a large portion of the Commercial ene
 rgy code because of its outsized impact on energy performance.  As huge dr
 ivers of energy consumption and use\, it’s critical that building envelope
 s are designed and built to code.  \n\nIn this 2-hour live (virtual) train
 ing session\, participants will examine the ingredients for a code-complia
 nt building envelope and how those ingredients are incorporated into the 2
 020 ECCCNYS commercial provisions.
DTSTART;TZID=America/New_York:20250716T110000
DTEND;TZID=America/New_York:20250716T130000
LOCATION:
SUMMARY:Crushing the Code NYS: Commercial Envelope
END:VEVENT
END:VCALENDAR
