BEGIN:VCALENDAR
VERSION:2.0
PRODID:-//3qinnovation.org//NONSGML kigkonsult.se iCalcreator 2.30.10//
CALSCALE:GREGORIAN
METHOD:PUBLISH
UID:6a2b1c9d-a71c-4564-867a-b66d19b0ea84
X-WR-CALDESC:This Urban Green course prepares building and design professio
 nals in New York City to comply with the residential mechanical\, hot wate
 r\, and lighting requirements in the 2020 New York City Energy Conservatio
 n Code (NYCECC). \n\nParticipants in this 1.5-hour live (virtual) training
  will learn right-sized mechanical systems are crucial for complying with 
 the energy code.
X-WR-RELCALID:439b05f597529405b3dfe96340cbdab6
X-WR-TIMEZONE:America/New_York
BEGIN:VTIMEZONE
TZID:America/New_York
BEGIN:STANDARD
TZNAME:EST
DTSTART:20241103T020000
TZOFFSETFROM:-0400
TZOFFSETTO:-0500
RDATE:20251102T020000
RDATE:20261101T020000
END:STANDARD
BEGIN:DAYLIGHT
TZNAME:EDT
DTSTART:20250309T020000
TZOFFSETFROM:-0500
TZOFFSETTO:-0400
RDATE:20260308T020000
END:DAYLIGHT
END:VTIMEZONE
BEGIN:VEVENT
UID:f1d84675-3e55-484a-8fb2-1adfdfb9c56a
DTSTAMP:20260419T185054Z
DESCRIPTION:This Urban Green course prepares building and design profession
 als in New York City to comply with the residential mechanical\, hot water
 \, and lighting requirements in the 2020 New York City Energy Conservation
  Code (NYCECC). \n\nParticipants in this 1.5-hour live (virtual) training 
 will learn right-sized mechanical systems are crucial for complying with t
 he energy code.
DTSTART;TZID=America/New_York:20250715T153000
DTEND;TZID=America/New_York:20250715T170000
LOCATION:
SUMMARY:Crushing the Code NYC: Residential Building Systems
END:VEVENT
END:VCALENDAR
