BEGIN:VCALENDAR
VERSION:2.0
PRODID:-//3qinnovation.org//NONSGML kigkonsult.se iCalcreator 2.30.10//
CALSCALE:GREGORIAN
METHOD:PUBLISH
UID:fe75af29-cae9-42b4-9764-e01ad67fc531
X-WR-CALDESC:This Urban Green course prepares building and design professio
 nals in New York State to comply with residential envelope requirements in
  the 2020 Energy Conservation Construction Code of New York State (ECCCNYS
 ).  \n\nThe building envelope occupies a large portion of the Residential 
 energy code because of its outsized impact on energy performance.  As huge
  drivers of energy consumption and use\, it’s critical that building envel
 opes are designed and built to code.  \n\nIn this 2-hour live (virtual) tr
 aining session\, participants will examine the ingredients for a code-comp
 liant building envelope and how those ingredients are incorporated into th
 e 2020 ECCCNYS residential provisions.
X-WR-RELCALID:37458a14c4f81ca7f99dbcd981090542
X-WR-TIMEZONE:America/New_York
BEGIN:VTIMEZONE
TZID:America/New_York
BEGIN:STANDARD
TZNAME:EST
DTSTART:20241103T020000
TZOFFSETFROM:-0400
TZOFFSETTO:-0500
RDATE:20251102T020000
RDATE:20261101T020000
END:STANDARD
BEGIN:DAYLIGHT
TZNAME:EDT
DTSTART:20250309T020000
TZOFFSETFROM:-0500
TZOFFSETTO:-0400
RDATE:20260308T020000
END:DAYLIGHT
END:VTIMEZONE
BEGIN:VEVENT
UID:c84b064a-0b19-4cd3-ab35-39adf7acb310
DTSTAMP:20260419T184642Z
DESCRIPTION:This Urban Green course prepares building and design profession
 als in New York State to comply with residential envelope requirements in 
 the 2020 Energy Conservation Construction Code of New York State (ECCCNYS)
 .  \n\nThe building envelope occupies a large portion of the Residential e
 nergy code because of its outsized impact on energy performance.  As huge 
 drivers of energy consumption and use\, it’s critical that building envelo
 pes are designed and built to code.  \n\nIn this 2-hour live (virtual) tra
 ining session\, participants will examine the ingredients for a code-compl
 iant building envelope and how those ingredients are incorporated into the
  2020 ECCCNYS residential provisions.
DTSTART;TZID=America/New_York:20250708T110000
DTEND;TZID=America/New_York:20250708T133000
LOCATION:
SUMMARY:Crushing the Code NYS: Residential Envelope
END:VEVENT
END:VCALENDAR
