BEGIN:VCALENDAR
VERSION:2.0
PRODID:-//3qinnovation.org//NONSGML kigkonsult.se iCalcreator 2.30.10//
CALSCALE:GREGORIAN
METHOD:PUBLISH
UID:febd98b9-65a3-49df-a582-9452f848afd8
X-WR-CALDESC:New to USGBC membership? A long-time member in need of a refre
 sher? Join USGBC on Welcome Wednesday each month for a brief presentation 
 on USGBC National membership followed by an opportunity for Q&A.
X-WR-RELCALID:c045515e6b2ae169f06f9f8b79d62783
X-WR-TIMEZONE:America/New_York
BEGIN:VTIMEZONE
TZID:America/New_York
BEGIN:STANDARD
TZNAME:EST
DTSTART:20241103T020000
TZOFFSETFROM:-0400
TZOFFSETTO:-0500
RDATE:20251102T020000
RDATE:20261101T020000
END:STANDARD
BEGIN:DAYLIGHT
TZNAME:EDT
DTSTART:20250309T020000
TZOFFSETFROM:-0500
TZOFFSETTO:-0400
RDATE:20260308T020000
END:DAYLIGHT
END:VTIMEZONE
BEGIN:VEVENT
UID:dea37d3a-38de-463e-b02d-9cd16abc4fb5
DTSTAMP:20260419T185248Z
DESCRIPTION:New to USGBC membership? A long-time member in need of a refres
 her? Join USGBC on Welcome Wednesday each month for a brief presentation o
 n USGBC National membership followed by an opportunity for Q&A.
DTSTART;TZID=America/New_York:20250702T120000
DTEND;TZID=America/New_York:20250702T130000
LOCATION:
SUMMARY:Welcome Wednesdays: Intro to USGBC National Membership
END:VEVENT
END:VCALENDAR
