BEGIN:VCALENDAR
VERSION:2.0
PRODID:-//3qinnovation.org//NONSGML kigkonsult.se iCalcreator 2.30.10//
CALSCALE:GREGORIAN
METHOD:PUBLISH
UID:822d9caa-1064-43ed-8b53-b6b7767bd8fd
X-WR-CALDESC:Crushing the Code NYC: Energy Code 101 prepares building and d
 esign professionals in New York State to navigate the requirements of the 
 2020 New York City Energy Conservation Code (NYCECC). \n\nIn this introduc
 tory session\, students will learn what the energy code is\, why it was de
 veloped\, where it’s headed\, and the different ways to comply. This train
 ing will cover topics related to both the Commercial and Residential energ
 y code for New York City.
X-WR-RELCALID:721f286fd02e84c93107190082ffe84f
X-WR-TIMEZONE:America/New_York
BEGIN:VTIMEZONE
TZID:America/New_York
BEGIN:STANDARD
TZNAME:EST
DTSTART:20241103T020000
TZOFFSETFROM:-0400
TZOFFSETTO:-0500
RDATE:20251102T020000
RDATE:20261101T020000
END:STANDARD
BEGIN:DAYLIGHT
TZNAME:EDT
DTSTART:20250309T020000
TZOFFSETFROM:-0500
TZOFFSETTO:-0400
RDATE:20260308T020000
END:DAYLIGHT
END:VTIMEZONE
BEGIN:VEVENT
UID:56676846-8315-4dca-8916-22d295c11846
DTSTAMP:20260419T183351Z
DESCRIPTION:Crushing the Code NYC: Energy Code 101 prepares building and de
 sign professionals in New York State to navigate the requirements of the 2
 020 New York City Energy Conservation Code (NYCECC). \n\nIn this introduct
 ory session\, students will learn what the energy code is\, why it was dev
 eloped\, where it’s headed\, and the different ways to comply. This traini
 ng will cover topics related to both the Commercial and Residential energy
  code for New York City.
DTSTART;TZID=America/New_York:20250701T150000
DTEND;TZID=America/New_York:20250701T170000
LOCATION:
SUMMARY:Crushing the Code NYC: Energy Code 101
END:VEVENT
END:VCALENDAR
