BEGIN:VCALENDAR
VERSION:2.0
PRODID:-//3qinnovation.org//NONSGML kigkonsult.se iCalcreator 2.30.10//
CALSCALE:GREGORIAN
METHOD:PUBLISH
UID:2dabc660-4361-437e-974e-0ff9e0393ea5
X-WR-CALDESC:This is the Brooklyn Chamber of Commerce's fourth annual Energ
 y Summit and Trade Expo - 'The Next Wave: Energy\, Business & the Future o
 f NY”. \n\nJoin leaders from business\, government\, utilities\, & the inn
 ovation economy to explore the future of clean energy\, financing\, innova
 tion\, and policy.  Learn about connecting the dots between economic devel
 opment and the urgent energy transition. Whether you're a startup founder\
 , policymaker\, investor\, or small business owner\, this is an opportunit
 y to plug into the conversations shaping New York’s energy future.\n\nDock
  72\, Brooklyn Navy Yard
X-WR-RELCALID:0ff3edc797703694f67818384a2add9e
X-WR-TIMEZONE:America/New_York
BEGIN:VTIMEZONE
TZID:America/New_York
BEGIN:STANDARD
TZNAME:EST
DTSTART:20241103T020000
TZOFFSETFROM:-0400
TZOFFSETTO:-0500
RDATE:20251102T020000
RDATE:20261101T020000
END:STANDARD
BEGIN:DAYLIGHT
TZNAME:EDT
DTSTART:20250309T020000
TZOFFSETFROM:-0500
TZOFFSETTO:-0400
RDATE:20260308T020000
END:DAYLIGHT
END:VTIMEZONE
BEGIN:VEVENT
UID:d21c75d7-7c31-48bd-9f1d-7006d9d89252
DTSTAMP:20260419T202211Z
DESCRIPTION:This is the Brooklyn Chamber of Commerce's fourth annual Energy
  Summit and Trade Expo - 'The Next Wave: Energy\, Business & the Future of
  NY”. \n\nJoin leaders from business\, government\, utilities\, & the inno
 vation economy to explore the future of clean energy\, financing\, innovat
 ion\, and policy.  Learn about connecting the dots between economic develo
 pment and the urgent energy transition. Whether you're a startup founder\,
  policymaker\, investor\, or small business owner\, this is an opportunity
  to plug into the conversations shaping New York’s energy future.\n\nDock 
 72\, Brooklyn Navy Yard
DTSTART;TZID=America/New_York:20250626T083000
DTEND;TZID=America/New_York:20250626T153000
LOCATION:
SUMMARY:2025 Energy Summit & Expo
END:VEVENT
END:VCALENDAR
