BEGIN:VCALENDAR
VERSION:2.0
PRODID:-//3qinnovation.org//NONSGML kigkonsult.se iCalcreator 2.30.10//
CALSCALE:GREGORIAN
METHOD:PUBLISH
UID:ee517c06-4c95-45f9-b1fc-e11d7d4a9fbf
X-WR-CALDESC:Step into the future of sustainable design with “It’s Not Easy
  Being Green: The Sustainability of Wood\,” an online\, one-credit course 
 led by Joe Avila\, globally acclaimed wood flooring expert and certified i
 nspector. This course offers essential knowledge to sidestep costly wood f
 looring failures and legal missteps\, providing you with insights into the
  newest trends\, advanced systems\, and eco-friendly materials that delive
 r value to your projects and your clients.\n\nDesigned specifically for ar
 chitects and design professionals\, this CEU-accredited course prepares yo
 u to confidently specify sustainable hardwood flooring\, aligning with gre
 en building standards.
X-WR-RELCALID:6f1f1b0feb4adab512978941a6801d11
X-WR-TIMEZONE:America/New_York
BEGIN:VTIMEZONE
TZID:America/New_York
BEGIN:STANDARD
TZNAME:EST
DTSTART:20241103T020000
TZOFFSETFROM:-0400
TZOFFSETTO:-0500
RDATE:20251102T020000
RDATE:20261101T020000
END:STANDARD
BEGIN:DAYLIGHT
TZNAME:EDT
DTSTART:20250309T020000
TZOFFSETFROM:-0500
TZOFFSETTO:-0400
RDATE:20260308T020000
END:DAYLIGHT
END:VTIMEZONE
BEGIN:VEVENT
UID:2fa7c129-b4c6-4f81-a694-cb7333dae4f8
DTSTAMP:20260419T202940Z
DESCRIPTION:Step into the future of sustainable design with “It’s Not Easy 
 Being Green: The Sustainability of Wood\,” an online\, one-credit course l
 ed by Joe Avila\, globally acclaimed wood flooring expert and certified in
 spector. This course offers essential knowledge to sidestep costly wood fl
 ooring failures and legal missteps\, providing you with insights into the 
 newest trends\, advanced systems\, and eco-friendly materials that deliver
  value to your projects and your clients.\n\nDesigned specifically for arc
 hitects and design professionals\, this CEU-accredited course prepares you
  to confidently specify sustainable hardwood flooring\, aligning with gree
 n building standards.
DTSTART;TZID=America/New_York:20250619T133000
DTEND;TZID=America/New_York:20250619T143000
LOCATION:
SUMMARY:Huggins Wood Floor Specialist Series: It’s Not Easy Being Green - S
 ustainability of Wood
END:VEVENT
END:VCALENDAR
