BEGIN:VCALENDAR
VERSION:2.0
PRODID:-//3qinnovation.org//NONSGML kigkonsult.se iCalcreator 2.30.10//
CALSCALE:GREGORIAN
METHOD:PUBLISH
UID:9fe0b228-50b3-4eb9-81de-daba8134f580
X-WR-CALDESC:NYC Accelerator\, in collaboration with Con Edison\, National 
 Grid\, & New York State Energy Research and Development Authority (NYSERDA
 )\, invites building owners & property management professionals to the “LL
 97 Compliance: Service Provider Expo”. This full-day event is designed to 
 help you chart a clear path toward NYC Local Law 97 (LL97) compliance by c
 onnecting you with trusted service providers and showcasing the latest in 
 decarbonization and energy efficiency solutions.  \n\nWhile the May 1\, 20
 25 LL97 filing deadline has passed\, the grace period continues through Ju
 ne 30\, 2025 with extensions available through August 29\, 2025. NYC Accel
 erator and the NYC Department of Buildings will be on-site throughout the 
 event to answer your questions\, help you navigate your compliance pathway
 \, and provide assistance with filing requirements.\n\nLocation: Brooklyn 
 Navy Yard
X-WR-RELCALID:9550995a4cb0989e5c027addf40c8d94
X-WR-TIMEZONE:America/New_York
BEGIN:VTIMEZONE
TZID:America/New_York
BEGIN:STANDARD
TZNAME:EST
DTSTART:20241103T020000
TZOFFSETFROM:-0400
TZOFFSETTO:-0500
RDATE:20251102T020000
RDATE:20261101T020000
END:STANDARD
BEGIN:DAYLIGHT
TZNAME:EDT
DTSTART:20250309T020000
TZOFFSETFROM:-0500
TZOFFSETTO:-0400
RDATE:20260308T020000
END:DAYLIGHT
END:VTIMEZONE
BEGIN:VEVENT
UID:b90d7015-6eb8-43f1-b4fa-88c1edb75cf9
DTSTAMP:20260419T202308Z
DESCRIPTION:NYC Accelerator\, in collaboration with Con Edison\, National G
 rid\, & New York State Energy Research and Development Authority (NYSERDA)
 \, invites building owners & property management professionals to the “LL9
 7 Compliance: Service Provider Expo”. This full-day event is designed to h
 elp you chart a clear path toward NYC Local Law 97 (LL97) compliance by co
 nnecting you with trusted service providers and showcasing the latest in d
 ecarbonization and energy efficiency solutions.  \n\nWhile the May 1\, 202
 5 LL97 filing deadline has passed\, the grace period continues through Jun
 e 30\, 2025 with extensions available through August 29\, 2025. NYC Accele
 rator and the NYC Department of Buildings will be on-site throughout the e
 vent to answer your questions\, help you navigate your compliance pathway\
 , and provide assistance with filing requirements.\n\nLocation: Brooklyn N
 avy Yard
DTSTART;TZID=America/New_York:20250617T090000
DTEND;TZID=America/New_York:20250617T170000
LOCATION:
SUMMARY:LL97 Compliance: Service Provider Expo
END:VEVENT
END:VCALENDAR
