BEGIN:VCALENDAR
VERSION:2.0
PRODID:-//3qinnovation.org//NONSGML kigkonsult.se iCalcreator 2.30.10//
CALSCALE:GREGORIAN
METHOD:PUBLISH
UID:def44e28-6da3-4b94-a23e-2cefb9a87b52
X-WR-CALDESC:NYSERDA and Building Energy Exchange\, in collaboration with R
 MI and Ember Strategies\, are offering a comprehensive three-part Strategi
 c Decarbonization Planning training series designed to help industry profe
 ssionals tackle complex retrofit projects with confidence. \n\nThis traini
 ng series is tailored for professionals in engineering\, real estate\, and
  technology.  And it will equip participants with the tools and knowledge 
 to drive practical\, cost-effective low-carbon retrofits in large building
 s. Grounded in lessons learned from NYSERDA’s Empire Building Challenge an
 d their innovative retrofit demonstration projects\, participants will lea
 rn how to: \n\n1)  Identify effective retrofit strategies by evaluating te
 chnical solutions and real estate conditions\n2)  Make the case for low-ca
 rbon retrofits with compelling business narratives that resonate with deci
 sion-makers\n3) Turn plans into action by creating clear\, step-by-step de
 carbonization roadmaps for real-world projects
X-WR-RELCALID:9a0a545183ac8de94259cb71b7969a97
X-WR-TIMEZONE:America/New_York
BEGIN:VTIMEZONE
TZID:America/New_York
BEGIN:STANDARD
TZNAME:EST
DTSTART:20241103T020000
TZOFFSETFROM:-0400
TZOFFSETTO:-0500
RDATE:20251102T020000
RDATE:20261101T020000
END:STANDARD
BEGIN:DAYLIGHT
TZNAME:EDT
DTSTART:20250309T020000
TZOFFSETFROM:-0500
TZOFFSETTO:-0400
RDATE:20260308T020000
END:DAYLIGHT
END:VTIMEZONE
BEGIN:VEVENT
UID:6ee64a6c-2eb4-45ec-bf5b-644bc94b8aa4
DTSTAMP:20260419T202333Z
DESCRIPTION:NYSERDA and Building Energy Exchange\, in collaboration with RM
 I and Ember Strategies\, are offering a comprehensive three-part Strategic
  Decarbonization Planning training series designed to help industry profes
 sionals tackle complex retrofit projects with confidence. \n\nThis trainin
 g series is tailored for professionals in engineering\, real estate\, and 
 technology.  And it will equip participants with the tools and knowledge t
 o drive practical\, cost-effective low-carbon retrofits in large buildings
 . Grounded in lessons learned from NYSERDA’s Empire Building Challenge and
  their innovative retrofit demonstration projects\, participants will lear
 n how to: \n\n1)  Identify effective retrofit strategies by evaluating tec
 hnical solutions and real estate conditions\n2)  Make the case for low-car
 bon retrofits with compelling business narratives that resonate with decis
 ion-makers\n3) Turn plans into action by creating clear\, step-by-step dec
 arbonization roadmaps for real-world projects
DTSTART;TZID=America/New_York:20250610T093000
DTEND;TZID=America/New_York:20250610T110000
LOCATION:
SUMMARY:Let’s Decarbonize! Live Bldg Decarb Wkshop
END:VEVENT
END:VCALENDAR
