BEGIN:VCALENDAR
VERSION:2.0
PRODID:-//3qinnovation.org//NONSGML kigkonsult.se iCalcreator 2.30.10//
CALSCALE:GREGORIAN
METHOD:PUBLISH
UID:841ef1b0-6924-4772-9430-7ea79de407b7
X-WR-CALDESC:The AIA Conference on Architecture & Design 2025 (AIA25) is an
  event where imagination drives solutions and collaboration redefines what
 ’s possible in architecture and design.  This event is anchored by inspiri
 ng keynotes\, industry-best continuing education\, dynamic networking\, im
 mersive tours\, unforgettable events\, and the industry’s largest expo.\n
 \nAIA25 takes place in Boston\, Massachusetts June 4 - 7\, 2025.
X-WR-RELCALID:4e3acc284e1ccac6dee397ca769e48f7
X-WR-TIMEZONE:America/New_York
BEGIN:VTIMEZONE
TZID:America/New_York
BEGIN:STANDARD
TZNAME:EST
DTSTART:20241103T020000
TZOFFSETFROM:-0400
TZOFFSETTO:-0500
RDATE:20251102T020000
RDATE:20261101T020000
END:STANDARD
BEGIN:DAYLIGHT
TZNAME:EDT
DTSTART:20250309T020000
TZOFFSETFROM:-0500
TZOFFSETTO:-0400
RDATE:20260308T020000
END:DAYLIGHT
END:VTIMEZONE
BEGIN:VEVENT
UID:33381b40-bd08-4373-8fd3-321bdc2240f7
DTSTAMP:20260419T202302Z
DESCRIPTION:The AIA Conference on Architecture & Design 2025 (AIA25) is an 
 event where imagination drives solutions and collaboration redefines what’
 s possible in architecture and design.  This event is anchored by inspirin
 g keynotes\, industry-best continuing education\, dynamic networking\, imm
 ersive tours\, unforgettable events\, and the industry’s largest expo.\n\n
 AIA25 takes place in Boston\, Massachusetts June 4 - 7\, 2025.
DTSTART;TZID=America/New_York:20250605T090000
DTEND;TZID=America/New_York:20250605T170000
LOCATION:
SUMMARY:AIA25: Conference on Architecture & Design
END:VEVENT
END:VCALENDAR
