BEGIN:VCALENDAR
VERSION:2.0
PRODID:-//3qinnovation.org//NONSGML kigkonsult.se iCalcreator 2.30.10//
CALSCALE:GREGORIAN
METHOD:PUBLISH
UID:e263463f-78d4-43d0-a8e2-7493e78c5630
X-WR-CALDESC:The AIA Conference on Architecture & Design 2025 (AIA25) is an
  event where imagination drives solutions and collaboration redefines what
 ’s possible in architecture and design.  This event is anchored by inspiri
 ng keynotes\, industry-best continuing education\, dynamic networking\, im
 mersive tours\, unforgettable events\, and the industry’s largest expo.\n
 \nAIA25 takes place in Boston\, Massachusetts June 4 - 7\, 2025.
X-WR-RELCALID:9f9c229a0472cdbd8b2aa9a23bb91a6c
X-WR-TIMEZONE:America/New_York
BEGIN:VTIMEZONE
TZID:America/New_York
BEGIN:STANDARD
TZNAME:EST
DTSTART:20241103T020000
TZOFFSETFROM:-0400
TZOFFSETTO:-0500
RDATE:20251102T020000
RDATE:20261101T020000
END:STANDARD
BEGIN:DAYLIGHT
TZNAME:EDT
DTSTART:20250309T020000
TZOFFSETFROM:-0500
TZOFFSETTO:-0400
RDATE:20260308T020000
END:DAYLIGHT
END:VTIMEZONE
BEGIN:VEVENT
UID:9944e18b-a808-4969-b05d-5eed0124c937
DTSTAMP:20260419T202302Z
DESCRIPTION:The AIA Conference on Architecture & Design 2025 (AIA25) is an 
 event where imagination drives solutions and collaboration redefines what’
 s possible in architecture and design.  This event is anchored by inspirin
 g keynotes\, industry-best continuing education\, dynamic networking\, imm
 ersive tours\, unforgettable events\, and the industry’s largest expo.\n\n
 AIA25 takes place in Boston\, Massachusetts June 4 - 7\, 2025.
DTSTART;TZID=America/New_York:20250604T090000
DTEND;TZID=America/New_York:20250604T170000
LOCATION:
SUMMARY:AIA25: Conference on Architecture & Design
END:VEVENT
END:VCALENDAR
