BEGIN:VCALENDAR
VERSION:2.0
PRODID:-//3qinnovation.org//NONSGML kigkonsult.se iCalcreator 2.30.10//
CALSCALE:GREGORIAN
METHOD:PUBLISH
UID:7fbe030a-e6ac-4f60-875b-bb707e67b39a
X-WR-CALDESC:New York City's first Local Law 97 compliance period is now co
 mpleted\, paving the way for the City to accelerate its net-zero future. 
 \n\nAt NYC Next: Shaping Building Decarbonization (a half-day conference a
 t NYU)\, experts will explore three key forces shaping the future of build
 ings: 1) funding for building decarbonization\; 2) making resilience centr
 al to sustainability\; and 3) strengthening grid integration with battery 
 storage.\n\nJoin Urban Green at NYU on June 2 to gain insights from the pe
 ople | companies leading the way in transforming NYC’s built environment a
 nd learn what key trends will shape the next phase of New York City's acce
 leration to net-zero.
X-WR-RELCALID:175a945f6552d09a281484d00f81f3f4
X-WR-TIMEZONE:America/New_York
BEGIN:VTIMEZONE
TZID:America/New_York
BEGIN:STANDARD
TZNAME:EST
DTSTART:20241103T020000
TZOFFSETFROM:-0400
TZOFFSETTO:-0500
RDATE:20251102T020000
RDATE:20261101T020000
END:STANDARD
BEGIN:DAYLIGHT
TZNAME:EDT
DTSTART:20250309T020000
TZOFFSETFROM:-0500
TZOFFSETTO:-0400
RDATE:20260308T020000
END:DAYLIGHT
END:VTIMEZONE
BEGIN:VEVENT
UID:b905e658-f89c-4b7c-aff1-b8ba295f0b8e
DTSTAMP:20260419T202036Z
DESCRIPTION:New York City's first Local Law 97 compliance period is now com
 pleted\, paving the way for the City to accelerate its net-zero future. \n
 \nAt NYC Next: Shaping Building Decarbonization (a half-day conference at 
 NYU)\, experts will explore three key forces shaping the future of buildin
 gs: 1) funding for building decarbonization\; 2) making resilience central
  to sustainability\; and 3) strengthening grid integration with battery st
 orage.\n\nJoin Urban Green at NYU on June 2 to gain insights from the peop
 le | companies leading the way in transforming NYC’s built environment and
  learn what key trends will shape the next phase of New York City's accele
 ration to net-zero.
DTSTART;TZID=America/New_York:20250602T130000
DTEND;TZID=America/New_York:20250602T170000
LOCATION:
SUMMARY:NYC Next: Shaping Building Decarbonization
END:VEVENT
END:VCALENDAR
