BEGIN:VCALENDAR
VERSION:2.0
PRODID:-//3qinnovation.org//NONSGML kigkonsult.se iCalcreator 2.30.10//
CALSCALE:GREGORIAN
METHOD:PUBLISH
UID:cd9437e4-d367-4c1d-b4a7-0628cf5dc320
X-WR-CALDESC:In alignment with the 2024 AIANY Presidential Theme\, Belongin
 g and Beyond\, AIA New York is partnering with 3x3 for a powerful two-day 
 seminar focused on community-centered design. \n\nThis immersive program i
 s designed to equip architects and allied professionals with the tools\, s
 kills\, and frameworks to lead equitable\, inclusive\, and trust-centered 
 community engagement processes.
X-WR-RELCALID:35761aac24c953deefa976fac3e9e106
X-WR-TIMEZONE:America/New_York
BEGIN:VTIMEZONE
TZID:America/New_York
BEGIN:STANDARD
TZNAME:EST
DTSTART:20241103T020000
TZOFFSETFROM:-0400
TZOFFSETTO:-0500
RDATE:20251102T020000
RDATE:20261101T020000
END:STANDARD
BEGIN:DAYLIGHT
TZNAME:EDT
DTSTART:20250309T020000
TZOFFSETFROM:-0500
TZOFFSETTO:-0400
RDATE:20260308T020000
END:DAYLIGHT
END:VTIMEZONE
BEGIN:VEVENT
UID:d006f837-2284-4004-9270-d1c2b1867e48
DTSTAMP:20260419T220504Z
DESCRIPTION:In alignment with the 2024 AIANY Presidential Theme\, Belonging
  and Beyond\, AIA New York is partnering with 3x3 for a powerful two-day s
 eminar focused on community-centered design. \n\nThis immersive program is
  designed to equip architects and allied professionals with the tools\, sk
 ills\, and frameworks to lead equitable\, inclusive\, and trust-centered c
 ommunity engagement processes.
DTSTART;TZID=America/New_York:20250529T090000
DTEND;TZID=America/New_York:20250529T120000
LOCATION:
SUMMARY:Community-Centered Design: Engagement That Creates Belonging (Day 2
 )
END:VEVENT
END:VCALENDAR
