BEGIN:VCALENDAR
VERSION:2.0
PRODID:-//3qinnovation.org//NONSGML kigkonsult.se iCalcreator 2.30.10//
CALSCALE:GREGORIAN
METHOD:PUBLISH
UID:0509df3d-07f4-4d83-9204-c83146dd2ad4
X-WR-CALDESC:In alignment with the 2024 AIANY Presidential Theme\, Belongin
 g and Beyond\, AIA New York is partnering with 3x3 for a powerful two-day 
 seminar focused on community-centered design. \n\nThis immersive program i
 s designed to equip architects and allied professionals with the tools\, s
 kills\, and frameworks to lead equitable\, inclusive\, and trust-centered 
 community engagement processes.
X-WR-RELCALID:6a0675abe80357092735306cd7eaeec7
X-WR-TIMEZONE:America/New_York
BEGIN:VTIMEZONE
TZID:America/New_York
BEGIN:STANDARD
TZNAME:EST
DTSTART:20241103T020000
TZOFFSETFROM:-0400
TZOFFSETTO:-0500
RDATE:20251102T020000
RDATE:20261101T020000
END:STANDARD
BEGIN:DAYLIGHT
TZNAME:EDT
DTSTART:20250309T020000
TZOFFSETFROM:-0500
TZOFFSETTO:-0400
RDATE:20260308T020000
END:DAYLIGHT
END:VTIMEZONE
BEGIN:VEVENT
UID:1bdc79b8-d37c-44b2-a44e-3fddcf8e12ed
DTSTAMP:20260419T220608Z
DESCRIPTION:In alignment with the 2024 AIANY Presidential Theme\, Belonging
  and Beyond\, AIA New York is partnering with 3x3 for a powerful two-day s
 eminar focused on community-centered design. \n\nThis immersive program is
  designed to equip architects and allied professionals with the tools\, sk
 ills\, and frameworks to lead equitable\, inclusive\, and trust-centered c
 ommunity engagement processes.
DTSTART;TZID=America/New_York:20250528T090000
DTEND;TZID=America/New_York:20250528T170000
LOCATION:
SUMMARY:Community-Centered Design: Engagement That Creates Belonging (Day 1
 )
END:VEVENT
END:VCALENDAR
