BEGIN:VCALENDAR
VERSION:2.0
PRODID:-//3qinnovation.org//NONSGML kigkonsult.se iCalcreator 2.30.10//
CALSCALE:GREGORIAN
METHOD:PUBLISH
UID:083e7868-0b41-4580-98e5-6e9dd8abf9a3
X-WR-CALDESC:NESEA kicks off its 2025 Pro Tour Series with an event showcas
 ing a formerly vacant commercial building transformed into an all-electric
 \, net zero co-warehousing facility.  Tour host Rosenblum Development Corp
 . is sharing an overview of this project with the NESEA community in the h
 opes it will serve as a replicable example of how to approach rehabilitati
 ng older warehouse spaces.   \n\nThis event will begin with an opening wor
 kshop discussing the history\, goals\, and design | construction strategie
 s of the project. Attendees will then break into small groups to tour the 
 facility while hearing more from the interdisciplinary team of experts who
  made the building possible. After the tour\, a reception and Q&A session 
 will give attendees the opportunity to talk with speakers and each other.
X-WR-RELCALID:3a08a9d0cec970a96a6c5057e7d6e7d3
X-WR-TIMEZONE:America/New_York
BEGIN:VTIMEZONE
TZID:America/New_York
BEGIN:STANDARD
TZNAME:EST
DTSTART:20241103T020000
TZOFFSETFROM:-0400
TZOFFSETTO:-0500
RDATE:20251102T020000
RDATE:20261101T020000
END:STANDARD
BEGIN:DAYLIGHT
TZNAME:EDT
DTSTART:20250309T020000
TZOFFSETFROM:-0500
TZOFFSETTO:-0400
RDATE:20260308T020000
END:DAYLIGHT
END:VTIMEZONE
BEGIN:VEVENT
UID:38b56953-16b3-4866-9899-24c4bc37fcc5
DTSTAMP:20260419T220924Z
DESCRIPTION:NESEA kicks off its 2025 Pro Tour Series with an event showcasi
 ng a formerly vacant commercial building transformed into an all-electric\
 , net zero co-warehousing facility.  Tour host Rosenblum Development Corp.
  is sharing an overview of this project with the NESEA community in the ho
 pes it will serve as a replicable example of how to approach rehabilitatin
 g older warehouse spaces.   \n\nThis event will begin with an opening work
 shop discussing the history\, goals\, and design | construction strategies
  of the project. Attendees will then break into small groups to tour the f
 acility while hearing more from the interdisciplinary team of experts who 
 made the building possible. After the tour\, a reception and Q&A session w
 ill give attendees the opportunity to talk with speakers and each other.
DTSTART;TZID=America/New_York:20250523T130000
DTEND;TZID=America/New_York:20250523T170000
LOCATION:
SUMMARY:Pro Tour: Net Zero\, Renovated Warehouse Suites in New York's Capit
 al Region
END:VEVENT
END:VCALENDAR
