BEGIN:VCALENDAR
VERSION:2.0
PRODID:-//3qinnovation.org//NONSGML kigkonsult.se iCalcreator 2.30.10//
CALSCALE:GREGORIAN
METHOD:PUBLISH
UID:887f61fd-10db-4663-a425-f352877504b5
X-WR-CALDESC:California’s leading green building conference will take place
  in San Francisco this year.  This US Green Building Council-California co
 nference is where green building pros\, sustainability rock stars\, and ch
 ange-makers from across the state come together under one roof.\n\nExpect 
 an electrifying day filled with fresh ideas\, game-changing insights\, and
  endless opportunities to connect with industry leaders. Don't miss it!
X-WR-RELCALID:5eaccb1e98332ce37e70c001d0e60660
X-WR-TIMEZONE:America/New_York
BEGIN:VTIMEZONE
TZID:America/New_York
BEGIN:STANDARD
TZNAME:EST
DTSTART:20241103T020000
TZOFFSETFROM:-0400
TZOFFSETTO:-0500
RDATE:20251102T020000
RDATE:20261101T020000
END:STANDARD
BEGIN:DAYLIGHT
TZNAME:EDT
DTSTART:20250309T020000
TZOFFSETFROM:-0500
TZOFFSETTO:-0400
RDATE:20260308T020000
END:DAYLIGHT
END:VTIMEZONE
BEGIN:VEVENT
UID:ba383f81-18fc-4793-9470-3e023eb89f5a
DTSTAMP:20260419T220710Z
DESCRIPTION:California’s leading green building conference will take place 
 in San Francisco this year.  This US Green Building Council-California con
 ference is where green building pros\, sustainability rock stars\, and cha
 nge-makers from across the state come together under one roof.\n\nExpect a
 n electrifying day filled with fresh ideas\, game-changing insights\, and 
 endless opportunities to connect with industry leaders. Don't miss it!
DTSTART;TZID=America/New_York:20250522T080000
DTEND;TZID=America/New_York:20250522T180000
LOCATION:
SUMMARY:California Green Building Conference 2025
END:VEVENT
END:VCALENDAR
