BEGIN:VCALENDAR
VERSION:2.0
PRODID:-//3qinnovation.org//NONSGML kigkonsult.se iCalcreator 2.30.10//
CALSCALE:GREGORIAN
METHOD:PUBLISH
UID:4ca7ee03-1705-4f19-8870-3974782a8e69
X-WR-CALDESC:The AIANY Design for Aging Committee will welcome architecture
  and interior design students from the 'Design for Aging and Beyond' Sprin
 g 2025 course at Pratt Institute School of Design. Each student will prese
 nt a design proposal based on in-depth research and experimentation aimed 
 at accommodating an aging population. \n\nThis event is part of the commit
 tee's initiative to engage with the next generation of designers in NYC\, 
 provide constructive feedback\, and explore new perspectives on the topic.
X-WR-RELCALID:91b92a5a114a81c94f1f9b5406be0f71
X-WR-TIMEZONE:America/New_York
BEGIN:VTIMEZONE
TZID:America/New_York
BEGIN:STANDARD
TZNAME:EST
DTSTART:20241103T020000
TZOFFSETFROM:-0400
TZOFFSETTO:-0500
RDATE:20251102T020000
RDATE:20261101T020000
END:STANDARD
BEGIN:DAYLIGHT
TZNAME:EDT
DTSTART:20250309T020000
TZOFFSETFROM:-0500
TZOFFSETTO:-0400
RDATE:20260308T020000
END:DAYLIGHT
END:VTIMEZONE
BEGIN:VEVENT
UID:60a10e2e-9a9f-4ef6-be30-d34c7c397eb7
DTSTAMP:20260419T221259Z
DESCRIPTION:The AIANY Design for Aging Committee will welcome architecture 
 and interior design students from the 'Design for Aging and Beyond' Spring
  2025 course at Pratt Institute School of Design. Each student will presen
 t a design proposal based on in-depth research and experimentation aimed a
 t accommodating an aging population. \n\nThis event is part of the committ
 ee's initiative to engage with the next generation of designers in NYC\, p
 rovide constructive feedback\, and explore new perspectives on the topic.
DTSTART;TZID=America/New_York:20250519T180000
DTEND;TZID=America/New_York:20250519T200000
LOCATION:
SUMMARY:Pratt Institute School of Design: Design for Aging and Beyond 2025
END:VEVENT
END:VCALENDAR
