BEGIN:VCALENDAR
VERSION:2.0
PRODID:-//3qinnovation.org//NONSGML kigkonsult.se iCalcreator 2.30.10//
CALSCALE:GREGORIAN
METHOD:PUBLISH
UID:a38c6a9d-323c-484d-aade-0be388952469
X-WR-CALDESC:The Empire Building Challenge (EBC) program was launched to un
 lock replicable\, scalable approaches to decarbonizing existing high rise 
 commercial office and multifamily buildings in cold climates. \n\nAs part 
 of a three-part training series focused on helping to achieve the above mi
 ssion\, this course will focus on Strategic Decarbonization Finance and As
 set Planning - the process by which technical\, economic\, and asset manag
 ement components of the decarbonization roadmap are evaluated to support d
 ecision-making. Additionally\, this course will detail how to construct co
 mpelling and persuasive business case narratives to build support for deca
 rbonization projects. \n\nParticipants should be able to effectively devel
 op business case narratives in support of building decarbonization project
 s at the conclusion of the course.
X-WR-RELCALID:f6df34cd713a02853e674e81a7e85407
X-WR-TIMEZONE:America/New_York
BEGIN:VTIMEZONE
TZID:America/New_York
BEGIN:STANDARD
TZNAME:EST
DTSTART:20241103T020000
TZOFFSETFROM:-0400
TZOFFSETTO:-0500
RDATE:20251102T020000
RDATE:20261101T020000
END:STANDARD
BEGIN:DAYLIGHT
TZNAME:EDT
DTSTART:20250309T020000
TZOFFSETFROM:-0500
TZOFFSETTO:-0400
RDATE:20260308T020000
END:DAYLIGHT
END:VTIMEZONE
BEGIN:VEVENT
UID:d37047d3-6184-4a61-8f00-41e9e112cbe1
DTSTAMP:20260419T220024Z
DESCRIPTION:The Empire Building Challenge (EBC) program was launched to unl
 ock replicable\, scalable approaches to decarbonizing existing high rise c
 ommercial office and multifamily buildings in cold climates. \n\nAs part o
 f a three-part training series focused on helping to achieve the above mis
 sion\, this course will focus on Strategic Decarbonization Finance and Ass
 et Planning - the process by which technical\, economic\, and asset manage
 ment components of the decarbonization roadmap are evaluated to support de
 cision-making. Additionally\, this course will detail how to construct com
 pelling and persuasive business case narratives to build support for decar
 bonization projects. \n\nParticipants should be able to effectively develo
 p business case narratives in support of building decarbonization projects
  at the conclusion of the course.
DTSTART;TZID=America/New_York:20250515T123000
DTEND;TZID=America/New_York:20250515T143000
LOCATION:
SUMMARY:Strategic Decarbonization Planning: Finance and Asset Planning
END:VEVENT
END:VCALENDAR
