BEGIN:VCALENDAR
VERSION:2.0
PRODID:-//3qinnovation.org//NONSGML kigkonsult.se iCalcreator 2.30.10//
CALSCALE:GREGORIAN
METHOD:PUBLISH
UID:ce77abb4-db34-4de9-b06a-0c4afaca2f89
X-WR-CALDESC:Join the Cross-Learning Alliance on May 7 to learn about the b
 ig picture of Thermal Energy Networks (TENs) in NYC | NYS.  TENs are neigh
 borhood-based networked systems that can capture\, re-use\, and share ther
 mal energy within and between buildings.  (The Cross-Learning Alliance is 
 a collaboration between Urban Green\, AIA New York\, the New York Chapter 
 of ASHRAE\, & New York Passive House.)\n\nWith the passage and implementat
 ion of the Utility Thermal Energy Network & Jobs Act (UTENJA)\, New York h
 as taken a strong step towards decarbonizing the building sector with TENs
 \, including through pilot projects in NYC and across the state.  In this 
 webinar\, learn about the fundamentals of TENs and how they are crucial fo
 r the future of energy planning.
X-WR-RELCALID:86e8596793ef461e442c9db758c1e4e4
X-WR-TIMEZONE:America/New_York
BEGIN:VTIMEZONE
TZID:America/New_York
BEGIN:STANDARD
TZNAME:EST
DTSTART:20241103T020000
TZOFFSETFROM:-0400
TZOFFSETTO:-0500
RDATE:20251102T020000
RDATE:20261101T020000
END:STANDARD
BEGIN:DAYLIGHT
TZNAME:EDT
DTSTART:20250309T020000
TZOFFSETFROM:-0500
TZOFFSETTO:-0400
RDATE:20260308T020000
END:DAYLIGHT
END:VTIMEZONE
BEGIN:VEVENT
UID:b9646c35-5904-45a9-80d2-712d012f88dc
DTSTAMP:20260419T220504Z
DESCRIPTION:Join the Cross-Learning Alliance on May 7 to learn about the bi
 g picture of Thermal Energy Networks (TENs) in NYC | NYS.  TENs are neighb
 orhood-based networked systems that can capture\, re-use\, and share therm
 al energy within and between buildings.  (The Cross-Learning Alliance is a
  collaboration between Urban Green\, AIA New York\, the New York Chapter o
 f ASHRAE\, & New York Passive House.)\n\nWith the passage and implementati
 on of the Utility Thermal Energy Network & Jobs Act (UTENJA)\, New York ha
 s taken a strong step towards decarbonizing the building sector with TENs\
 , including through pilot projects in NYC and across the state.  In this w
 ebinar\, learn about the fundamentals of TENs and how they are crucial for
  the future of energy planning.
DTSTART;TZID=America/New_York:20250507T100000
DTEND;TZID=America/New_York:20250507T110000
LOCATION:
SUMMARY:Rethinking Heat with Thermal Energy Networks
END:VEVENT
END:VCALENDAR
