BEGIN:VCALENDAR
VERSION:2.0
PRODID:-//3qinnovation.org//NONSGML kigkonsult.se iCalcreator 2.30.10//
CALSCALE:GREGORIAN
METHOD:PUBLISH
UID:3f6360b9-b939-486a-b078-34c81eb71213
X-WR-CALDESC:City College of New York is hosting an offering of Urban Green
  Council's 'GPRO Fundamentals of Building Green' on May 7th.\n\nGPRO Funda
 mentals is designed for a range of real estate\, construction\, architectu
 re and engineering professionals.  This course is ideal for anyone who nee
 ds a better understanding of high-performance building\, including sales o
 r administrative staff in real estate\, construction\, architecture or eng
 ineering\, workforce development providers\, facilities and operations sup
 port staff\, and college students interested in entering the building and 
 construction industry.
X-WR-RELCALID:9017ac06ae376dd4f8d2b14ea37c2322
X-WR-TIMEZONE:America/New_York
BEGIN:VTIMEZONE
TZID:America/New_York
BEGIN:STANDARD
TZNAME:EST
DTSTART:20241103T020000
TZOFFSETFROM:-0400
TZOFFSETTO:-0500
RDATE:20251102T020000
RDATE:20261101T020000
END:STANDARD
BEGIN:DAYLIGHT
TZNAME:EDT
DTSTART:20250309T020000
TZOFFSETFROM:-0500
TZOFFSETTO:-0400
RDATE:20260308T020000
END:DAYLIGHT
END:VTIMEZONE
BEGIN:VEVENT
UID:986fe951-cc08-4980-8374-7c9c2abaa66c
DTSTAMP:20260419T221757Z
DESCRIPTION:City College of New York is hosting an offering of Urban Green 
 Council's 'GPRO Fundamentals of Building Green' on May 7th.\n\nGPRO Fundam
 entals is designed for a range of real estate\, construction\, architectur
 e and engineering professionals.  This course is ideal for anyone who need
 s a better understanding of high-performance building\, including sales or
  administrative staff in real estate\, construction\, architecture or engi
 neering\, workforce development providers\, facilities and operations supp
 ort staff\, and college students interested in entering the building and c
 onstruction industry.
DTSTART;TZID=America/New_York:20250507T093000
DTEND;TZID=America/New_York:20250507T150000
LOCATION:
SUMMARY:GPRO Fundamentals of Building Green
END:VEVENT
END:VCALENDAR
